BEGIN:VCALENDAR
VERSION:2.0
PRODID:-//Masemhalunkehen - ECPv6.15.16//NONSGML v1.0//EN
CALSCALE:GREGORIAN
METHOD:PUBLISH
X-WR-CALNAME:Masemhalunkehen
X-ORIGINAL-URL:https://masemhalunkehen.hu
X-WR-CALDESC:Események Masemhalunkehen
REFRESH-INTERVAL;VALUE=DURATION:PT1H
X-Robots-Tag:noindex
X-PUBLISHED-TTL:PT1H
BEGIN:VTIMEZONE
TZID:Europe/Budapest
BEGIN:DAYLIGHT
TZOFFSETFROM:+0100
TZOFFSETTO:+0200
TZNAME:CEST
DTSTART:20250330T010000
END:DAYLIGHT
BEGIN:STANDARD
TZOFFSETFROM:+0200
TZOFFSETTO:+0100
TZNAME:CET
DTSTART:20251026T010000
END:STANDARD
BEGIN:DAYLIGHT
TZOFFSETFROM:+0100
TZOFFSETTO:+0200
TZNAME:CEST
DTSTART:20260329T010000
END:DAYLIGHT
BEGIN:STANDARD
TZOFFSETFROM:+0200
TZOFFSETTO:+0100
TZNAME:CET
DTSTART:20261025T010000
END:STANDARD
BEGIN:DAYLIGHT
TZOFFSETFROM:+0100
TZOFFSETTO:+0200
TZNAME:CEST
DTSTART:20270328T010000
END:DAYLIGHT
BEGIN:STANDARD
TZOFFSETFROM:+0200
TZOFFSETTO:+0100
TZNAME:CET
DTSTART:20271031T010000
END:STANDARD
END:VTIMEZONE
BEGIN:VEVENT
DTSTART;TZID=Europe/Budapest:20260221T080000
DTEND;TZID=Europe/Budapest:20260221T170000
DTSTAMP:20260422T001147
CREATED:20260216T192003Z
LAST-MODIFIED:20260217T105830Z
UID:735-1771660800-1771693200@masemhalunkehen.hu
SUMMARY:Kiskunlacháza – „Tüske” Fesztivál"
DESCRIPTION:„Tüske” Fesztivál (Pálinka- és Likőrfesztivál Párlatok versenyére hív mindenkit ez a remek hangulatot ígérő esemény\, ahol a tét a város legjobb pálinkája cím megszerzése. A legütősebb pálinkák és likőrök\, kirakodóvásár\, gyermekprogramok és számos program várja a vendégeket.
URL:https://masemhalunkehen.hu/rendezveny/kiskunlachaza-tuske-fesztival/
LOCATION:Kiskunlacháza
CATEGORIES:A hétvége legütősebb gasztro programjai – Gasztrobalhék 2026
END:VEVENT
BEGIN:VEVENT
DTSTART;TZID=Europe/Budapest:20260221T080000
DTEND;TZID=Europe/Budapest:20260221T170000
DTSTAMP:20260422T001147
CREATED:20260216T191907Z
LAST-MODIFIED:20260217T105848Z
UID:732-1771660800-1771693200@masemhalunkehen.hu
SUMMARY:Csömör – Hájas Tészta- és Fánksütő Verseny
DESCRIPTION:Hájas Tészta- és Fánksütő Verseny. A csömöri Petőfi Sándor Művelődési Ház szervezésében sokadik alkalommal kerül megrendezésre ez a verseny. Az egyre növekvő népszerűségnek örvendő gasztroturisztikai rendezvény túlnőtt a település határain\, már kistérségi szintre fejlődött az évek során.
URL:https://masemhalunkehen.hu/rendezveny/csomor-hajas-teszta-es-fanksuto-verseny/
LOCATION:Csömör
CATEGORIES:A hétvége legütősebb gasztro programjai – Gasztrobalhék 2026
END:VEVENT
BEGIN:VEVENT
DTSTART;TZID=Europe/Budapest:20260221T080000
DTEND;TZID=Europe/Budapest:20260221T170000
DTSTAMP:20260422T001147
CREATED:20260216T191808Z
LAST-MODIFIED:20260217T105929Z
UID:730-1771660800-1771693200@masemhalunkehen.hu
SUMMARY:Kunfehértó – Kunfehértor - Disznóvágás
DESCRIPTION:Kunfehértor. A vidéki ízek kedvelői számára nagy lehetőség a Bács-Kiskun megyei eseményen való részvétel. A jótékonysági rendezvényen bármi elérhető\, melyek egy disznóvágás alkalmával nem hiányozhatnak.
URL:https://masemhalunkehen.hu/rendezveny/kunfeherto-kunfehertor-disznovagas/
CATEGORIES:A hétvége legütősebb gasztro programjai – Gasztrobalhék 2026
END:VEVENT
BEGIN:VEVENT
DTSTART;TZID=Europe/Budapest:20260221T080000
DTEND;TZID=Europe/Budapest:20260221T170000
DTSTAMP:20260422T001147
CREATED:20260216T191654Z
LAST-MODIFIED:20260217T105951Z
UID:728-1771660800-1771693200@masemhalunkehen.hu
SUMMARY:Ballószög (Sportcentrum) – IX. Kolbásztöltő Verseny
DESCRIPTION:IX. Kolbásztöltő verseny. A IX. Ballószögi Kolbásztöltő Verseny  szombaton kerül megrendezésre a helyi Sportcentrumban. A rendezvényre csapatok jelentkezését várják\, a részvétel előzetes regisztrációhoz kötött\, melyet egy online felületen lehet megtenni a Ballószögi Faluház Facebook-bejegyzésében.
URL:https://masemhalunkehen.hu/rendezveny/balloszog-sportcentrum-ix-kolbasztolto-verseny/
CATEGORIES:A hétvége legütősebb gasztro programjai – Gasztrobalhék 2026
END:VEVENT
BEGIN:VEVENT
DTSTART;VALUE=DATE:20260221
DTEND;VALUE=DATE:20260222
DTSTAMP:20260422T001147
CREATED:20260216T180405Z
LAST-MODIFIED:20260217T110012Z
UID:724-1771632000-1771718399@masemhalunkehen.hu
SUMMARY:Kisláng – Kolbásztöltő Fesztivál
DESCRIPTION:Kolbásztöltő fesztivál. A Fejér megyei Kislángon a hagyományokhoz hűen az idén is megtartják a következő gasztronómiai programsorozatot. A hagyományok ápolása céljából létrejövő rendezvény minden évben lehetőséget nyújt a disznótoros finomságok kedvelőinek a bemutatkozásra.
URL:https://masemhalunkehen.hu/rendezveny/kislang-kolbasztolto-fesztival/
LOCATION:Kisláng
CATEGORIES:A hétvége legütősebb gasztro programjai – Gasztrobalhék 2026
END:VEVENT
BEGIN:VEVENT
DTSTART;TZID=Europe/Budapest:20260220T080000
DTEND;TZID=Europe/Budapest:20260220T170000
DTSTAMP:20260422T001147
CREATED:20260216T192149Z
LAST-MODIFIED:20260217T110033Z
UID:740-1771574400-1771606800@masemhalunkehen.hu
SUMMARY:Balatonföldvár: Sörfőzde-látogatás
DESCRIPTION:Sörfőzde-látogatás a Helkában kinyílnak a Helka kapui: egy látogatás keretében bepillantást nyerhetünk a sörfőzde életébe. A túra során a látogatókat bevezetik a sörfőzés világába\, megismerkedhetnek a főzde épületének különleges történelmével\, miközben kedvenc balatoni söreiket kóstolhatják a program ideje alatt korlátlanul.
URL:https://masemhalunkehen.hu/rendezveny/balatonfoldvar/
CATEGORIES:A hétvége legütősebb gasztro programjai – Gasztrobalhék 2026
END:VEVENT
BEGIN:VEVENT
DTSTART;TZID=Europe/Budapest:20260219T080000
DTEND;TZID=Europe/Budapest:20260219T170000
DTSTAMP:20260422T001147
CREATED:20260216T192106Z
LAST-MODIFIED:20260217T110050Z
UID:738-1771488000-1771520400@masemhalunkehen.hu
SUMMARY:Tihany & Balatonfüred: áldozás a torkosság oltárán
DESCRIPTION:Idén három helyszínen áldozhatunk a torkosság oltárán: a balatonfüredi Trattoria il Lago\, a tihanyi Apátsági Rege Cukrászda\, valamint a szintén tihanyi Echo Étterem várja 50% kedvezménnyel a vendégeket.
URL:https://masemhalunkehen.hu/rendezveny/tihany-balatonfured/
END:VEVENT
END:VCALENDAR