BEGIN:VCALENDAR
VERSION:2.0
PRODID:-//Masemhalunkehen - ECPv6.15.16//NONSGML v1.0//EN
CALSCALE:GREGORIAN
METHOD:PUBLISH
X-ORIGINAL-URL:https://masemhalunkehen.hu
X-WR-CALDESC:Események Masemhalunkehen
REFRESH-INTERVAL;VALUE=DURATION:PT1H
X-Robots-Tag:noindex
X-PUBLISHED-TTL:PT1H
BEGIN:VTIMEZONE
TZID:Europe/Budapest
BEGIN:DAYLIGHT
TZOFFSETFROM:+0100
TZOFFSETTO:+0200
TZNAME:CEST
DTSTART:20250330T010000
END:DAYLIGHT
BEGIN:STANDARD
TZOFFSETFROM:+0200
TZOFFSETTO:+0100
TZNAME:CET
DTSTART:20251026T010000
END:STANDARD
BEGIN:DAYLIGHT
TZOFFSETFROM:+0100
TZOFFSETTO:+0200
TZNAME:CEST
DTSTART:20260329T010000
END:DAYLIGHT
BEGIN:STANDARD
TZOFFSETFROM:+0200
TZOFFSETTO:+0100
TZNAME:CET
DTSTART:20261025T010000
END:STANDARD
BEGIN:DAYLIGHT
TZOFFSETFROM:+0100
TZOFFSETTO:+0200
TZNAME:CEST
DTSTART:20270328T010000
END:DAYLIGHT
BEGIN:STANDARD
TZOFFSETFROM:+0200
TZOFFSETTO:+0100
TZNAME:CET
DTSTART:20271031T010000
END:STANDARD
END:VTIMEZONE
BEGIN:VEVENT
DTSTART;TZID=Europe/Budapest:20260306T080000
DTEND;TZID=Europe/Budapest:20260415T170000
DTSTAMP:20260421T160458
CREATED:20260228T110154Z
LAST-MODIFIED:20260305T101233Z
UID:1156-1772784000-1776272400@masemhalunkehen.hu
SUMMARY:Taste Balaton Fesztivál (Balaton-felvidék több helyszínen):
DESCRIPTION:2026. március 6–15. – A régió legjobb éttermei és borászatai kínálnak különleges menüket és programokat (március 6-án indul).
URL:https://masemhalunkehen.hu/rendezveny/taste-balaton-fesztival-balaton-felvidek-tobb-helyszinen/
LOCATION:Balaton
END:VEVENT
BEGIN:VEVENT
DTSTART;TZID=Europe/Budapest:20260402T080000
DTEND;TZID=Europe/Budapest:20260416T170000
DTSTAMP:20260421T160458
CREATED:20260401T045536Z
LAST-MODIFIED:20260401T045536Z
UID:2331-1775116800-1776358800@masemhalunkehen.hu
SUMMARY:Kőröshegyi Tulipánszüret - Balaton
DESCRIPTION:Bár ez elsősorban látvány\, a helyszínen gyakran találkozhatsz helyi termelők finomságaival és piknikhangulattal a Balaton-felvidéki panoráma mellett.
URL:https://masemhalunkehen.hu/rendezveny/koroshegyi-tulipanszuret-balaton/
LOCATION:Balaton
END:VEVENT
BEGIN:VEVENT
DTSTART;TZID=Europe/Budapest:20260418T100000
DTEND;TZID=Europe/Budapest:20260418T183000
DTSTAMP:20260421T160458
CREATED:20260415T051157Z
LAST-MODIFIED:20260415T051157Z
UID:2477-1776506400-1776537000@masemhalunkehen.hu
SUMMARY:Tavaszi Pincenyitogató - Hajós
DESCRIPTION:Hajóson a Tavaszi Pincenyitogató 2026. április 18-án kerül megrendezésre. Nyílnak a virágok\, a pincék és a palackok! Tarts velünk\, ezen a csodás tavaszi napon\, amikor változatos programokon vehetsz részt! A főszerepben természetesen a pincék és a borok állnak\, de lesz kézműves vásár is. Csatlakozzatok hozzánk egy felejthetetlen napra\, amely tele lesz borokkal\, gasztronómiai élményekkel és jó hangulattal! Ünnepeljük együtt a tavaszt a Hajósi Pincefaluban!
URL:https://masemhalunkehen.hu/rendezveny/tavaszi-pincenyitogato-hajos/
LOCATION:Hajós
END:VEVENT
BEGIN:VEVENT
DTSTART;TZID=Europe/Budapest:20260418T100000
DTEND;TZID=Europe/Budapest:20260418T190000
DTSTAMP:20260421T160458
CREATED:20260415T045942Z
LAST-MODIFIED:20260415T045942Z
UID:2462-1776506400-1776538800@masemhalunkehen.hu
SUMMARY:Miklósfai Répafőző Fesztivál - Nagykanizsa
DESCRIPTION:Egy igazi zalai különlegesség\, ahol a kerekrépából készült ételeké a főszerep. Lesz főzőverseny\, kézműves vásár és fellép Benk Dénes humorista is. \n\nIdőpont: 2026. április 18. (szombat).\nHelyszín: Nagykanizsa\, Miklósfa\, Mindenki Háza (Kápolna tér 20.).\nProgramok: A rendezvény középpontjában a répás ételek (különösen a savanyított répa) kóstolója és versenye áll\, amelyet színes kulturális műsorok\, kézműves vásár\, utcabál és italos büfé kísér.\nSztárvendég: Benk Dénes.\nJegyinformáció: A belépés díja 2000 Ft\, amelyből 1500 Ft a helyszínen fogyasztásra levásárolható. 
URL:https://masemhalunkehen.hu/rendezveny/miklosfai-repafozo-fesztival-nagykanizsa/
LOCATION:Nagykanizsa
END:VEVENT
BEGIN:VEVENT
DTSTART;TZID=Europe/Budapest:20260418T100000
DTEND;TZID=Europe/Budapest:20260418T190000
DTSTAMP:20260421T160458
CREATED:20260415T050123Z
LAST-MODIFIED:20260415T050123Z
UID:2466-1776506400-1776538800@masemhalunkehen.hu
SUMMARY:Hurka-pite Fesztivál - Polgári
DESCRIPTION:Polgári Hurka-pite Fesztiválra\, ahol a hagyományos disznótoros ételek\, színes kulturális programok és családi élmények várnak. A rendezvény a Polgár főterén kerül megrendezésre\, egész napos programkínálattal. A fesztivál tökéletes választás\, ha gasztroélményekkel és koncertekkel teli tavaszi programot keresel.
URL:https://masemhalunkehen.hu/rendezveny/hurka-pite-fesztival-polgari/
LOCATION:Polgár
END:VEVENT
BEGIN:VEVENT
DTSTART;TZID=Europe/Budapest:20260418T100000
DTEND;TZID=Europe/Budapest:20260418T190000
DTSTAMP:20260421T160458
CREATED:20260415T050345Z
LAST-MODIFIED:20260415T050345Z
UID:2469-1776506400-1776538800@masemhalunkehen.hu
SUMMARY:Boldog Boci Fesztivál - Somogyvámos
DESCRIPTION:A Krisna-völgyben az állatok tisztelete és a fenntartható\, vegetáriánus gasztronómia kerül fókuszba.  A fesztivál középpontjában a tehenek és ökrök tisztelete\, valamint a környezettudatos\, vegetáriánus szemlélet \nA fesztivál legfőbb programjai és jellemzői:\n\nPola-pūjā ceremónia: Egy ősi védikus rituálé\, amelynek keretében a feldíszített\, festéssel dekorált ökröket és teheneket ünneplik\, hálát adva a mezőgazdasági munkában nyújtott segítségükért.\nTehénvédelmi Központ (Gosala): A látogatók megismerkedhetnek a Krisna-völgyben zajló\, életre szóló tehénvédelemmel\, és közelebbről is láthatják a jószágokat.\nCsaládi és hagyományőrző programok: Ökrösszekeres birtokbejárás\, törpe zebuk etetése\, valamint az ország egyetlen működő ökörhajtású járgányházának bemutatója.\nVegetáriánus gasztronómia: A Govinda Étterem különleges\, helyi alapanyagokból készült vegán és vegetáriánus ételekkel várja a vendégeket.\nKörnyezettudatosság: A 280 hektáros biofarmon megtekinthető az ökofalu működése\, a templom és a kertészet\, amelyek a fenntartható életmódot mutatják be a gyakorlatban. 
URL:https://masemhalunkehen.hu/rendezveny/boldog-boci-fesztival-somogyvamos/
LOCATION:Somogyvámos
END:VEVENT
BEGIN:VEVENT
DTSTART;TZID=Europe/Budapest:20260418T103000
DTEND;TZID=Europe/Budapest:20260418T190000
DTSTAMP:20260421T160458
CREATED:20260415T052850Z
LAST-MODIFIED:20260415T052850Z
UID:2480-1776508200-1776538800@masemhalunkehen.hu
SUMMARY:Dűlőtúra - Mór
DESCRIPTION:Borkóstolós pincetúra a Móri Borvidéken \n2026. április 18-án indul a Tavaszi Dűlőtúra Móron. A Móri borvidék egyik legnépszerűbb gasztroturisztikai eseményén a látogatók helyi pincészeteket\, szőlőültetvényeket és borkülönlegességeket fedezhetnek fel. A program kiváló lehetőséget nyújt borkóstolásra\, kirándulásra és autentikus borvidéki élmények gyűjtésére. Májusban pedig pünkösdi bortúrára lehet jelentkezni.
URL:https://masemhalunkehen.hu/rendezveny/dulotura-mor/
LOCATION:Mór
END:VEVENT
BEGIN:VEVENT
DTSTART;TZID=Europe/Budapest:20260418T110000
DTEND;TZID=Europe/Budapest:20260419T180000
DTSTAMP:20260421T160458
CREATED:20260305T100048Z
LAST-MODIFIED:20260305T100048Z
UID:1374-1776510000-1776621600@masemhalunkehen.hu
SUMMARY:Etyeki Piknik - etyek
DESCRIPTION:Etyeki Piknik és Etyek Trend eseménye\n\n\n\n\n\n\n\n\n\n\n\n\nÚjhegyi utca – Etyeki gasztrosétány\, Etyek\, Hungary\, 2091\n\n\n\n\n\n\n\n\n\n\n\n\n\nNyilvános  · Bárki a Facebookon vagy azon kívül\n\n\n\n\n\n\n\n Ébred a szőlő\, pezseg az élet: bor\, zene\, család és barátok a Tavaszi Etyeki Pikniken! \n\nBővebb infók ITT
URL:https://masemhalunkehen.hu/rendezveny/etyeki-piknik-etyek/
END:VEVENT
BEGIN:VEVENT
DTSTART;TZID=Europe/Budapest:20260419T100000
DTEND;TZID=Europe/Budapest:20260419T180000
DTSTAMP:20260421T160458
CREATED:20260415T045708Z
LAST-MODIFIED:20260415T045708Z
UID:2459-1776592800-1776621600@masemhalunkehen.hu
SUMMARY:Eats & beats: Tokyo Breeze - Budapest\,Fény utcai piac
DESCRIPTION:(Április 19.\, Fény utcai piac): Ha szereted a japán ízeket\, ez a te programod. A piacon pop-up éttermek (pl. 101 Bistro\, Hachi)\, kerámia-workshopok és élő zene várja a látogatókat.
URL:https://masemhalunkehen.hu/rendezveny/eats-beats-tokyo-breeze-budapestfeny-utcai-piac/
LOCATION:Budapest
END:VEVENT
BEGIN:VEVENT
DTSTART;TZID=Europe/Budapest:20260425T080000
DTEND;TZID=Europe/Budapest:20260425T190000
DTSTAMP:20260421T160458
CREATED:20260323T094210Z
LAST-MODIFIED:20260323T094210Z
UID:1793-1777104000-1777143600@masemhalunkehen.hu
SUMMARY:Rétesfesztivál – Gasztroélmény és tavaszi közösségi nap - Örvényes
DESCRIPTION:Örvényesi Rétesfesztivál 2026. április 25-én. Frissen sült rétes illata\, ropogós tészta és végtelen ízválaszték vár rád az első Örvényesi Rétesfesztiválon! Egy nap\, ahol a gasztronómia\, a zene és a közösség találkozik – gyere és éld át a tavasz legfinomabb élményét!
URL:https://masemhalunkehen.hu/rendezveny/retesfesztival-gasztroelmeny-es-tavaszi-kozossegi-nap-orvenyes/
LOCATION:Örvényes
END:VEVENT
BEGIN:VEVENT
DTSTART;TZID=Europe/Budapest:20260425T080000
DTEND;TZID=Europe/Budapest:20260426T170000
DTSTAMP:20260421T160458
CREATED:20260402T094841Z
LAST-MODIFIED:20260402T094841Z
UID:2360-1777104000-1777222800@masemhalunkehen.hu
SUMMARY:GasztroFok - Siófok
DESCRIPTION:8600 Siófok\, Több helyszínen a városban \n\n\n\nGasztroFok Tavasz – Ízek\, élmények\, tavaszi hangulat Siófokon 2026. április 25-26-án. Tavasz a Balatonnál tele ízekkel és élményekkel. A város kiváló vendéglátósaival összefogva szervezzük meg a GasztroFok hétvégéket\, amikor is lehetőségetek van a siófoki éttermekben körbe kóstolni a helyi specialitásokat. Speciális gasztro ajánlatok\, kedvezmények és meglepetés programokkal várunk. Gyere és kóstold körbe Siófokot!
URL:https://masemhalunkehen.hu/rendezveny/gasztrofok-siofok/
LOCATION:Siófok
END:VEVENT
BEGIN:VEVENT
DTSTART;TZID=Europe/Budapest:20260425T080000
DTEND;TZID=Europe/Budapest:20260426T190000
DTSTAMP:20260421T160458
CREATED:20260402T095741Z
LAST-MODIFIED:20260402T095950Z
UID:2368-1777104000-1777230000@masemhalunkehen.hu
SUMMARY:Medvehagyma Fesztivál – Orfű
DESCRIPTION:Programok: \n\n\n\nmedvehagyma-gyűjtő túrák\ngasztrokóstolók\nkézműves vásár
URL:https://masemhalunkehen.hu/rendezveny/medvehagyma-fesztival-orfu/
LOCATION:Orfű
END:VEVENT
BEGIN:VEVENT
DTSTART;TZID=Europe/Budapest:20260430T080000
DTEND;TZID=Europe/Budapest:20260502T170000
DTSTAMP:20260421T160458
CREATED:20260323T092448Z
LAST-MODIFIED:20260323T092448Z
UID:1770-1777536000-1777741200@masemhalunkehen.hu
SUMMARY:Nemzetközi Sajt- és Túró Fesztivál 2026 - Gyomaendrőd
DESCRIPTION:2026. április 30. és május 2. között rendezik meg Gyomaendrődön a Nemzetközi Sajt- és Túró Fesztivált\, amely hazánk egyik legkülönlegesebb gasztronómiai eseménye. A fesztivál egyedülálló módon a sajt- és túrókészítés hagyományait állítja középpontba\, látványos és ízletes programokkal várva az érdeklődőket. \nAz esemény különlegessége\, hogy korábban egyszerre több ezer túrógombócot is megcsodálhattak a látogatók\, ami országos szinten is ritkaságnak számít. A fesztiválon kül- és belföldi kiállítók mutatják be népszerű termékeiket\, amelyeket helyben meg is lehet kóstolni\, miközben a kézműves sajtok vására igazi gasztronómiai élményt kínál. A jó hangulatról ismert hazai fellépők\, zenekarok és tánccsoportok gondoskodnak\, így a rendezvény minden korosztály számára tartalmas és szórakoztató kikapcsolódást nyújt.
URL:https://masemhalunkehen.hu/rendezveny/nemzetkozi-sajt-es-turo-fesztival-2026-gyomaendrod/
LOCATION:Gyomaendrőd
END:VEVENT
BEGIN:VEVENT
DTSTART;TZID=Europe/Budapest:20260501T080000
DTEND;TZID=Europe/Budapest:20260501T190000
DTSTAMP:20260421T160458
CREATED:20260415T050627Z
LAST-MODIFIED:20260415T050627Z
UID:2472-1777622400-1777662000@masemhalunkehen.hu
SUMMARY:Majális - Sajószöged
DESCRIPTION:Családi majális és főzőverseny 2026. május 1-jén a művelődési ház mögötti Pihenő parkban.
URL:https://masemhalunkehen.hu/rendezveny/majalis-sajoszoged/
LOCATION:Sajószöged
END:VEVENT
BEGIN:VEVENT
DTSTART;TZID=Europe/Budapest:20260508T100000
DTEND;TZID=Europe/Budapest:20260510T170000
DTSTAMP:20260421T160458
CREATED:20260415T050800Z
LAST-MODIFIED:20260415T050800Z
UID:2475-1778234400-1778432400@masemhalunkehen.hu
SUMMARY:Food Truck Show - Budapest\, Kincsem park
DESCRIPTION:2026. május 8-10. között Idén is a Kincsem Parkban lesz az ország legnagyobb tavaszi büfékocsi találkozója! Food truck\, rengeteg lóverseny\, agárversenyek\, gyerekprogramok. Szezonnyitó Food Truck Show a Kincsem Parkban!
URL:https://masemhalunkehen.hu/rendezveny/food-truck-show-budapest-kincsem-park/
LOCATION:Budapest
END:VEVENT
BEGIN:VEVENT
DTSTART;TZID=Europe/Budapest:20260515T100000
DTEND;TZID=Europe/Budapest:20260517T170000
DTSTAMP:20260421T160458
CREATED:20260302T162134Z
LAST-MODIFIED:20260302T162134Z
UID:1230-1778839200-1779037200@masemhalunkehen.hu
SUMMARY:1. Nagymarosi BBQ Fesztivál - Picigurman @ Gabko Chili
DESCRIPTION:Picigurman @ Gabko Chili
URL:https://masemhalunkehen.hu/rendezveny/1-nagymarosi-bbq-fesztival-picigurman-gabko-chili/
END:VEVENT
BEGIN:VEVENT
DTSTART;TZID=Europe/Budapest:20260604T080000
DTEND;TZID=Europe/Budapest:20260607T170000
DTSTAMP:20260421T160458
CREATED:20260305T100637Z
LAST-MODIFIED:20260305T102502Z
UID:1377-1780560000-1780851600@masemhalunkehen.hu
SUMMARY:Gourmet Fesztivál - Budapest Millenáris
DESCRIPTION:Gourmet fesztivál
URL:https://masemhalunkehen.hu/rendezveny/gourmet-fesztival-budapest-millenaris/
LOCATION:Budapest
END:VEVENT
END:VCALENDAR