BEGIN:VCALENDAR
VERSION:2.0
PRODID:-//Masemhalunkehen - ECPv6.15.16//NONSGML v1.0//EN
CALSCALE:GREGORIAN
METHOD:PUBLISH
X-ORIGINAL-URL:https://masemhalunkehen.hu
X-WR-CALDESC:Események Masemhalunkehen
REFRESH-INTERVAL;VALUE=DURATION:PT1H
X-Robots-Tag:noindex
X-PUBLISHED-TTL:PT1H
BEGIN:VTIMEZONE
TZID:Europe/Budapest
BEGIN:DAYLIGHT
TZOFFSETFROM:+0100
TZOFFSETTO:+0200
TZNAME:CEST
DTSTART:20250330T010000
END:DAYLIGHT
BEGIN:STANDARD
TZOFFSETFROM:+0200
TZOFFSETTO:+0100
TZNAME:CET
DTSTART:20251026T010000
END:STANDARD
BEGIN:DAYLIGHT
TZOFFSETFROM:+0100
TZOFFSETTO:+0200
TZNAME:CEST
DTSTART:20260329T010000
END:DAYLIGHT
BEGIN:STANDARD
TZOFFSETFROM:+0200
TZOFFSETTO:+0100
TZNAME:CET
DTSTART:20261025T010000
END:STANDARD
BEGIN:DAYLIGHT
TZOFFSETFROM:+0100
TZOFFSETTO:+0200
TZNAME:CEST
DTSTART:20270328T010000
END:DAYLIGHT
BEGIN:STANDARD
TZOFFSETFROM:+0200
TZOFFSETTO:+0100
TZNAME:CET
DTSTART:20271031T010000
END:STANDARD
END:VTIMEZONE
BEGIN:VEVENT
DTSTART;TZID=Europe/Budapest:20260306T080000
DTEND;TZID=Europe/Budapest:20260415T170000
DTSTAMP:20260421T172948
CREATED:20260228T110154Z
LAST-MODIFIED:20260305T101233Z
UID:1156-1772784000-1776272400@masemhalunkehen.hu
SUMMARY:Taste Balaton Fesztivál (Balaton-felvidék több helyszínen):
DESCRIPTION:2026. március 6–15. – A régió legjobb éttermei és borászatai kínálnak különleges menüket és programokat (március 6-án indul).
URL:https://masemhalunkehen.hu/rendezveny/taste-balaton-fesztival-balaton-felvidek-tobb-helyszinen/
LOCATION:Balaton
END:VEVENT
BEGIN:VEVENT
DTSTART;TZID=Europe/Budapest:20260327T100000
DTEND;TZID=Europe/Budapest:20260329T170000
DTSTAMP:20260421T172948
CREATED:20260305T103006Z
LAST-MODIFIED:20260305T103006Z
UID:1387-1774605600-1774803600@masemhalunkehen.hu
SUMMARY:Taste of Transylvania - Szentendre (Skanzen)
DESCRIPTION:A Taste of Transylvania Gasztrofesztivál\n\nnem más\, mint néhány elszánt szakács\, vendéglátós és helyi termelő közös álmának a megvalósulása. Célunk\, hogy együtt nyissuk meg az erdélyi gasztronómiai kultúra új fejezetét. Elindultunk közösen azon az úton\, ami a gasztronómiai hagyományaink és készségeink újrafelfedezéséhez és az eltűnőben lévő örökségünk megmentéséhez vezet – azt akarjuk\, hogy Erdélyt\, ezt a különleges és kissé eldugott tájat visszahelyezzük a nemzetközi gasztronómiai térképre\, mint egy új\, mégis időtlen desztináció. \n2026 új fejezetet jelent a Taste of Transylvania életében\, hiszen március 27 és 29 között sor kerül az első nemzetközi eseményünkre is\, melynek a Szabadtéri Néprajzi Múzeum\, avagy a Szentendrei Skanzen Erdély tájegysége ad otthont. \nBővebb információk: ITT
URL:https://masemhalunkehen.hu/rendezveny/taste-of-transylvania-szentendre-skanzen/
LOCATION:Szentendre
END:VEVENT
BEGIN:VEVENT
DTSTART;TZID=Europe/Budapest:20260328T110000
DTEND;TZID=Europe/Budapest:20260329T190000
DTSTAMP:20260421T172948
CREATED:20260323T090444Z
LAST-MODIFIED:20260323T090444Z
UID:1755-1774695600-1774810800@masemhalunkehen.hu
SUMMARY:KávéBár Bazár - Budapest
DESCRIPTION:A kávérajongók legnagyobb hazai eseménye: kóstolók\, bemutatók\, koktélok és bajnokságok – Groupama aréna \nhttps://www.kavebar.hu/
URL:https://masemhalunkehen.hu/rendezveny/kavebar-bazar-budapest/
LOCATION:Budapest
END:VEVENT
BEGIN:VEVENT
DTSTART;TZID=Europe/Budapest:20260329T080000
DTEND;TZID=Europe/Budapest:20260329T170000
DTSTAMP:20260421T172948
CREATED:20260323T091327Z
LAST-MODIFIED:20260323T091327Z
UID:1762-1774771200-1774803600@masemhalunkehen.hu
SUMMARY:Bábolnai Sonkafeszt - Bábolna
DESCRIPTION:A Sonkafesztivál 2026. március 29. napon kerül megrendezésre. A bábolnai sonkafeszt újra várja a sonkák imádóit. Ennyi sonkát már régen láttunk egy helyen\, ebben biztosak lehetünk! A többnapos programot egy zenei kavalkád nyitja meg\, majd ezt követően meg is kezdődik a híres sonkavásár.
URL:https://masemhalunkehen.hu/rendezveny/babolnai-sonkafeszt-babolna/
LOCATION:Bábolna
END:VEVENT
BEGIN:VEVENT
DTSTART;TZID=Europe/Budapest:20260402T080000
DTEND;TZID=Europe/Budapest:20260416T170000
DTSTAMP:20260421T172948
CREATED:20260401T045536Z
LAST-MODIFIED:20260401T045536Z
UID:2331-1775116800-1776358800@masemhalunkehen.hu
SUMMARY:Kőröshegyi Tulipánszüret - Balaton
DESCRIPTION:Bár ez elsősorban látvány\, a helyszínen gyakran találkozhatsz helyi termelők finomságaival és piknikhangulattal a Balaton-felvidéki panoráma mellett.
URL:https://masemhalunkehen.hu/rendezveny/koroshegyi-tulipanszuret-balaton/
LOCATION:Balaton
END:VEVENT
BEGIN:VEVENT
DTSTART;TZID=Europe/Budapest:20260402T190000
DTEND;TZID=Europe/Budapest:20260404T170000
DTSTAMP:20260421T172948
CREATED:20260401T050607Z
LAST-MODIFIED:20260401T050706Z
UID:2344-1775156400-1775322000@masemhalunkehen.hu
SUMMARY:Sörfőzde túra (First craft beer) - Újpest
DESCRIPTION:Sörfőzés élménytúra sörkóstolóval a First Craft Beer sörfőzdében\nMegismernéd\, hogyan készülnek a legizgalmasabb söreink? Szeretnéd látni\, hogyan néz ki a kisüzemi sörfőzés belülről? Várunk 2026. évi főzdetúránkra\, ahol megmutatjuk\, hogyan készülnek sörkülönlegességeink a kezdetektől egészen a korsóig! \nFoglalható időpontok:\nHeti három napon összesen öt alkalommal tartjuk túráinkat\, a következő időpontokban: \ncsütörtök 19:00 \npéntek 19:00 \nszombat 15:00\, 16.45 és 18:30 \n4. kerület – Újpest
URL:https://masemhalunkehen.hu/rendezveny/sorfozde-tura-first-craft-beer-ujpest/
LOCATION:Budapest
END:VEVENT
BEGIN:VEVENT
DTSTART;TZID=Europe/Budapest:20260403T080000
DTEND;TZID=Europe/Budapest:20260406T170000
DTSTAMP:20260421T172948
CREATED:20260401T045641Z
LAST-MODIFIED:20260401T045641Z
UID:2333-1775203200-1775494800@masemhalunkehen.hu
SUMMARY:Kopaszi-gát Nyitóhétvége - Budapest
DESCRIPTION:A Kopaszikert és környéke gasztro-programokkal és szabadtéri kikapcsolódással várja a tavaszt.
URL:https://masemhalunkehen.hu/rendezveny/kopaszi-gat-nyitohetvege-budapest/
LOCATION:Budapest
END:VEVENT
BEGIN:VEVENT
DTSTART;TZID=Europe/Budapest:20260403T120000
DTEND;TZID=Europe/Budapest:20260405T170000
DTSTAMP:20260421T172948
CREATED:20260402T100312Z
LAST-MODIFIED:20260402T100312Z
UID:2371-1775217600-1775408400@masemhalunkehen.hu
SUMMARY:Nagy Halfesztivál és Húsvéti Vásár - Budapest
DESCRIPTION:Ha szereted a finom ételeket\, a családi programokat és a húsvéti hangulatot\, akkor ezt az eseményt nem érdemes kihagyni. \nHalételek\, street food\, húsvéti vásár\, családi programok + kézműves standok \nHelyszín: Budapest\, WorldMall (régi ÁzsiaCenter) melletti rendezvénytér \nHárom napon keresztül igazi tavaszi fesztiválhangulat vár:\n\nÍnycsiklandó hal- és húsételek\, böjti finomságok\nKézműves portékák és hangulatos húsvéti vásár\nEsténként karaoke – garantált jó hangulat\nÍjászat kicsiknek és nagyoknak\n\nA gyerekek sem maradnak ki a mókából:\n\nEgész napos gyerekprogramok\nIzgalmas húsvéti tojáskeresés
URL:https://masemhalunkehen.hu/rendezveny/nagy-halfesztival-es-husveti-vasar-budapest/
LOCATION:Budapest
END:VEVENT
BEGIN:VEVENT
DTSTART;TZID=Europe/Budapest:20260404T080000
DTEND;TZID=Europe/Budapest:20260405T170000
DTSTAMP:20260421T172948
CREATED:20260401T045210Z
LAST-MODIFIED:20260401T045210Z
UID:2323-1775289600-1775408400@masemhalunkehen.hu
SUMMARY:VII. Hungarikum Piknik - Eger
DESCRIPTION:A Szépasszony-völgyben 30 hungarikummal\, köztük természetesen az Egri Bikavérrel ünnepelnek. Lesznek kézműves termékek és családi programok is.
URL:https://masemhalunkehen.hu/rendezveny/vii-hungarikum-piknik-eger/
LOCATION:Eger
END:VEVENT
BEGIN:VEVENT
DTSTART;TZID=Europe/Budapest:20260404T100000
DTEND;TZID=Europe/Budapest:20260404T120000
DTSTAMP:20260421T172948
CREATED:20260401T050038Z
LAST-MODIFIED:20260401T050038Z
UID:2338-1775296800-1775304000@masemhalunkehen.hu
SUMMARY:Pécsi sörtúra - Pécs
DESCRIPTION:Fedezd fel a Pécsi Sörfőzdét! Pécsi sörtúra programunk keretében meghívunk egy izgalmas főzdelátogatásra\, ahol betekinthetsz a Pécsi Sörfőzde működésébe\, a sörkészítés folyamatába és megismerheted a sör alapanyagait is\, összekötve egy felejthetetlen sörkóstolással. \n\n\n\n7600 Pécs\, Tavasz utca 13.
URL:https://masemhalunkehen.hu/rendezveny/pecsi-sortura-pecs/
LOCATION:Pécs
END:VEVENT
BEGIN:VEVENT
DTSTART;TZID=Europe/Budapest:20260404T100000
DTEND;TZID=Europe/Budapest:20260404T190000
DTSTAMP:20260421T172948
CREATED:20260401T045746Z
LAST-MODIFIED:20260401T045746Z
UID:2335-1775296800-1775329200@masemhalunkehen.hu
SUMMARY:Kézműves Ízek Fesztiválja - Szentes
DESCRIPTION:Hagyományos termékek\, házi sajtok és lekvárok seregszemléje.
URL:https://masemhalunkehen.hu/rendezveny/kezmuves-izek-fesztivalja-szentes/
LOCATION:Szentes
END:VEVENT
BEGIN:VEVENT
DTSTART;TZID=Europe/Budapest:20260404T100000
DTEND;TZID=Europe/Budapest:20260405T170000
DTSTAMP:20260421T172948
CREATED:20260401T045316Z
LAST-MODIFIED:20260401T045316Z
UID:2325-1775296800-1775408400@masemhalunkehen.hu
SUMMARY:Tokaji Piknik - Mezőzombor
DESCRIPTION:A világörökségi borvidék kapujában várják a borok és a dűlőtúrák szerelmeseit.
URL:https://masemhalunkehen.hu/rendezveny/tokaji-piknik-mezozombor/
LOCATION:Mezőzombor
END:VEVENT
BEGIN:VEVENT
DTSTART;TZID=Europe/Budapest:20260404T170000
DTEND;TZID=Europe/Budapest:20260404T210000
DTSTAMP:20260421T172948
CREATED:20260401T045428Z
LAST-MODIFIED:20260401T045428Z
UID:2328-1775322000-1775336400@masemhalunkehen.hu
SUMMARY:Budafoki Pincejárat - Budapest
DESCRIPTION:Minden hónap első szombatján a „Bornegyed” pincéi megnyílnak. Borkóstolók\, zenés vacsorák és ingyenes transzferbusz várja a látogatókat.
URL:https://masemhalunkehen.hu/rendezveny/budafoki-pincejarat-budapest/
LOCATION:Budapest
END:VEVENT
BEGIN:VEVENT
DTSTART;TZID=Europe/Budapest:20260405T123000
DTEND;TZID=Europe/Budapest:20260405T160000
DTSTAMP:20260421T172948
CREATED:20260401T050248Z
LAST-MODIFIED:20260401T050743Z
UID:2342-1775392200-1775404800@masemhalunkehen.hu
SUMMARY:Vasárnapi ebéd - Miskolc
DESCRIPTION:Legyen a vendégünk\, étkezzen mesés környezetben és ízlelje meg a Palotaszálló különleges ízeit! Engedje\, hogy mi főzzünk Ön helyett\, míg családjával élvezi a Palotaszálló gasztronómiai élményeit. Sunday Brunch svédasztalos ebéd minden vasárnap. \n3517 Miskolc\, Erzsébet sétány 1.
URL:https://masemhalunkehen.hu/rendezveny/vasarnapi-ebed-miskolc/
LOCATION:Miskolc
END:VEVENT
BEGIN:VEVENT
DTSTART;TZID=Europe/Budapest:20260410T080000
DTEND;TZID=Europe/Budapest:20260410T170000
DTSTAMP:20260421T172948
CREATED:20260402T095043Z
LAST-MODIFIED:20260402T095043Z
UID:2363-1775808000-1775840400@masemhalunkehen.hu
SUMMARY:Tavaszi Gasztropiknik - Göd
DESCRIPTION:2131 Göd\, Feneketlen-tó \n\n\n\n\nMinden érdeklődőt szeretettel vár 2026. április 10-én a gödi Feneketlen-tó partján a Gödi Tavaszi Gasztropiknik\, ahol a finom ételek és italok mellett élő zenei koncertek színesítik a napot. A családbarát rendezvényen többek között fellép a Parno Graszt\, a Newik\, garantálva a remek hangulatot és kikapcsolódást minden korosztálynak. A rendezvény gödi lakcímkártyával ingyenes.
URL:https://masemhalunkehen.hu/rendezveny/tavaszi-gasztropiknik-god/
LOCATION:Göd
END:VEVENT
BEGIN:VEVENT
DTSTART;TZID=Europe/Budapest:20260410T080000
DTEND;TZID=Europe/Budapest:20260411T190000
DTSTAMP:20260421T172948
CREATED:20260402T095300Z
LAST-MODIFIED:20260402T095300Z
UID:2366-1775808000-1775934000@masemhalunkehen.hu
SUMMARY:Bor\, Grill és BBQ-fesztivál - Kiskundorozsma
DESCRIPTION:2026. április 10-11-én Dorozsmai Bor\, Grill\, és BBQ-fesztivál\, igazi borünnep Kiskundorozsmára\, pincészetekkel\, ételkülönlegességekkel\, fergeteges hangulattal.
URL:https://masemhalunkehen.hu/rendezveny/bor-grill-es-bbq-fesztival-kiskundorozsma-2/
LOCATION:Kiskundorozsma
END:VEVENT
BEGIN:VEVENT
DTSTART;TZID=Europe/Budapest:20260410T173000
DTEND;TZID=Europe/Budapest:20260411T223000
DTSTAMP:20260421T172948
CREATED:20260409T062300Z
LAST-MODIFIED:20260409T062300Z
UID:2430-1775842200-1775946600@masemhalunkehen.hu
SUMMARY:Dorozsmai Bor\, Grill és BBQ Fesztivál - Kiskundorozsma
DESCRIPTION:Kiskundorozsmán igazi borünnep várható\, ahol a füstös grillételek és a BBQ dominál majd. \nTényleg magasabb fokozatba kapcsol Kiskundorozsma\, ugyanis április 10-én és 11-én már harmadszor jön a Bor-\, Grill- és BBQ Fesztivál\, ráadásul ezúttal új helyszínen\, a dorozsmai sportpályán. Két nap\, ingyenes programok\, grillillat\, jó borok\, helyi értékek és olyan fellépők\, mint Nótár Mary\, Dr. BRS\, Groovehouse\, Náksi és a 4S Street\, miközben a szervezők szerint az egész rendezvény lényege most is az\, hogy együtt mutassa meg\, mennyire erős\, eleven és összetartó közösség Kiskundorozsma!
URL:https://masemhalunkehen.hu/rendezveny/dorozsmai-bor-grill-es-bbq-fesztival-kiskundorozsma/
LOCATION:Kiskundorozsma
END:VEVENT
BEGIN:VEVENT
DTSTART;TZID=Europe/Budapest:20260411T080000
DTEND;TZID=Europe/Budapest:20260411T190000
DTSTAMP:20260421T172948
CREATED:20260323T092716Z
LAST-MODIFIED:20260323T092716Z
UID:1773-1775894400-1775934000@masemhalunkehen.hu
SUMMARY:Idényzáró Csülök\, Köröm Sütő - Főző Fesztivál - Szarvas
DESCRIPTION:Az Idényzáró Csülök\, Köröm Sütő-Főző Fesztivált 2026. április 11-én rendezik meg a Szarvasi Piaccsarnokban\, ahol egy napra a csülkös ételek kerülnek a középpontba\, és a látogatók különleges gasztronómiai élményekkel\, hagyományos ízekkel és jó hangulatú főzőversennyel találkozhatnak.
URL:https://masemhalunkehen.hu/rendezveny/idenyzaro-csulok-korom-suto-fozo-fesztival-szarvas/
LOCATION:Szarvas
END:VEVENT
BEGIN:VEVENT
DTSTART;TZID=Europe/Budapest:20260411T080000
DTEND;TZID=Europe/Budapest:20260411T190000
DTSTAMP:20260421T172948
CREATED:20260323T093332Z
LAST-MODIFIED:20260323T093332Z
UID:1783-1775894400-1775934000@masemhalunkehen.hu
SUMMARY:Töltöttkáposzta Fesztivál és Kézműves Vásár - Izsák
DESCRIPTION:Töltöttkáposzta Főző Fesztivál és Kézműves Vásár Izsákon\, a Kajla Off-Road Tanyán 2026. április 11-én. A nap folyamán a rotyogó bográcsok árnyékában egész nap élőzene biztosítja a hangulatot. Az elkészült ételek a kilátogató vendégek számára ételjegy megvásárlásával kóstolhatóak.
URL:https://masemhalunkehen.hu/rendezveny/toltottkaposzta-fesztival-es-kezmuves-vasar-izsak/
LOCATION:Izsák
END:VEVENT
BEGIN:VEVENT
DTSTART;TZID=Europe/Budapest:20260411T080000
DTEND;TZID=Europe/Budapest:20260411T190000
DTSTAMP:20260421T172948
CREATED:20260323T093847Z
LAST-MODIFIED:20260323T093847Z
UID:1786-1775894400-1775934000@masemhalunkehen.hu
SUMMARY:Félúton Fesztivál - Halászléfőző verseny - Kiskunhalas
DESCRIPTION:2026. április 11-én V. Félúton Fesztivál\, halászléfőző verseny Kiskunhalason. A lelkes főzőcsapatok ismét megmérettethetik kedvenc halászlé receptjeiket\, miközben gyerekek és felnőttek is fesztiválozhatnak egy jót. Kulturális-és gyerekprogramok\, kézműves termékek\, ételek\, italok várják a látogatókat. A belépés ingyenes!
URL:https://masemhalunkehen.hu/rendezveny/feluton-fesztival-halaszlefozo-verseny-kiskunhalas/
LOCATION:Kiskunhalas
END:VEVENT
BEGIN:VEVENT
DTSTART;TZID=Europe/Budapest:20260411T080000
DTEND;TZID=Europe/Budapest:20260411T190000
DTSTAMP:20260421T172948
CREATED:20260323T094046Z
LAST-MODIFIED:20260323T094046Z
UID:1790-1775894400-1775934000@masemhalunkehen.hu
SUMMARY:Polgári Hurka-pite Fesztivál – Gasztronómiai és családi programok - Polgár
DESCRIPTION:Látogass el 2026. április 18-án a Polgári Hurka-pite Fesztiválra\, ahol a hagyományos disznótoros ételek\, színes kulturális programok és családi élmények várnak. A rendezvény a Polgár főterén kerül megrendezésre\, egész napos programkínálattal. A fesztivál tökéletes választás\, ha gasztroélményekkel és koncertekkel teli tavaszi programot keresel.
URL:https://masemhalunkehen.hu/rendezveny/polgari-hurka-pite-fesztival-gasztronomiai-es-csaladi-programok-polgar/
LOCATION:Polgár
END:VEVENT
BEGIN:VEVENT
DTSTART;TZID=Europe/Budapest:20260411T100000
DTEND;TZID=Europe/Budapest:20260411T120000
DTSTAMP:20260421T172948
CREATED:20260409T071822Z
LAST-MODIFIED:20260409T071822Z
UID:2432-1775901600-1775908800@masemhalunkehen.hu
SUMMARY:Pécsi sörtúra - Pécs
DESCRIPTION:Fedezd fel a Pécsi Sörfőzdét! Pécsi sörtúra programunk keretében meghívunk egy izgalmas főzdelátogatásra\, ahol betekinthetsz a Pécsi Sörfőzde működésébe\, a sörkészítés folyamatába és megismerheted a sör alapanyagait is\, összekötve egy felejthetetlen sörkóstolással. \n\n\n\n7600 Pécs\, Tavasz utca 13.
URL:https://masemhalunkehen.hu/rendezveny/pecsi-sortura-pecs-2/
LOCATION:Pécs
END:VEVENT
BEGIN:VEVENT
DTSTART;TZID=Europe/Budapest:20260418T100000
DTEND;TZID=Europe/Budapest:20260418T183000
DTSTAMP:20260421T172948
CREATED:20260415T051157Z
LAST-MODIFIED:20260415T051157Z
UID:2477-1776506400-1776537000@masemhalunkehen.hu
SUMMARY:Tavaszi Pincenyitogató - Hajós
DESCRIPTION:Hajóson a Tavaszi Pincenyitogató 2026. április 18-án kerül megrendezésre. Nyílnak a virágok\, a pincék és a palackok! Tarts velünk\, ezen a csodás tavaszi napon\, amikor változatos programokon vehetsz részt! A főszerepben természetesen a pincék és a borok állnak\, de lesz kézműves vásár is. Csatlakozzatok hozzánk egy felejthetetlen napra\, amely tele lesz borokkal\, gasztronómiai élményekkel és jó hangulattal! Ünnepeljük együtt a tavaszt a Hajósi Pincefaluban!
URL:https://masemhalunkehen.hu/rendezveny/tavaszi-pincenyitogato-hajos/
LOCATION:Hajós
END:VEVENT
BEGIN:VEVENT
DTSTART;TZID=Europe/Budapest:20260418T100000
DTEND;TZID=Europe/Budapest:20260418T190000
DTSTAMP:20260421T172948
CREATED:20260415T045942Z
LAST-MODIFIED:20260415T045942Z
UID:2462-1776506400-1776538800@masemhalunkehen.hu
SUMMARY:Miklósfai Répafőző Fesztivál - Nagykanizsa
DESCRIPTION:Egy igazi zalai különlegesség\, ahol a kerekrépából készült ételeké a főszerep. Lesz főzőverseny\, kézműves vásár és fellép Benk Dénes humorista is. \n\nIdőpont: 2026. április 18. (szombat).\nHelyszín: Nagykanizsa\, Miklósfa\, Mindenki Háza (Kápolna tér 20.).\nProgramok: A rendezvény középpontjában a répás ételek (különösen a savanyított répa) kóstolója és versenye áll\, amelyet színes kulturális műsorok\, kézműves vásár\, utcabál és italos büfé kísér.\nSztárvendég: Benk Dénes.\nJegyinformáció: A belépés díja 2000 Ft\, amelyből 1500 Ft a helyszínen fogyasztásra levásárolható. 
URL:https://masemhalunkehen.hu/rendezveny/miklosfai-repafozo-fesztival-nagykanizsa/
LOCATION:Nagykanizsa
END:VEVENT
BEGIN:VEVENT
DTSTART;TZID=Europe/Budapest:20260418T100000
DTEND;TZID=Europe/Budapest:20260418T190000
DTSTAMP:20260421T172948
CREATED:20260415T050123Z
LAST-MODIFIED:20260415T050123Z
UID:2466-1776506400-1776538800@masemhalunkehen.hu
SUMMARY:Hurka-pite Fesztivál - Polgári
DESCRIPTION:Polgári Hurka-pite Fesztiválra\, ahol a hagyományos disznótoros ételek\, színes kulturális programok és családi élmények várnak. A rendezvény a Polgár főterén kerül megrendezésre\, egész napos programkínálattal. A fesztivál tökéletes választás\, ha gasztroélményekkel és koncertekkel teli tavaszi programot keresel.
URL:https://masemhalunkehen.hu/rendezveny/hurka-pite-fesztival-polgari/
LOCATION:Polgár
END:VEVENT
BEGIN:VEVENT
DTSTART;TZID=Europe/Budapest:20260418T100000
DTEND;TZID=Europe/Budapest:20260418T190000
DTSTAMP:20260421T172948
CREATED:20260415T050345Z
LAST-MODIFIED:20260415T050345Z
UID:2469-1776506400-1776538800@masemhalunkehen.hu
SUMMARY:Boldog Boci Fesztivál - Somogyvámos
DESCRIPTION:A Krisna-völgyben az állatok tisztelete és a fenntartható\, vegetáriánus gasztronómia kerül fókuszba.  A fesztivál középpontjában a tehenek és ökrök tisztelete\, valamint a környezettudatos\, vegetáriánus szemlélet \nA fesztivál legfőbb programjai és jellemzői:\n\nPola-pūjā ceremónia: Egy ősi védikus rituálé\, amelynek keretében a feldíszített\, festéssel dekorált ökröket és teheneket ünneplik\, hálát adva a mezőgazdasági munkában nyújtott segítségükért.\nTehénvédelmi Központ (Gosala): A látogatók megismerkedhetnek a Krisna-völgyben zajló\, életre szóló tehénvédelemmel\, és közelebbről is láthatják a jószágokat.\nCsaládi és hagyományőrző programok: Ökrösszekeres birtokbejárás\, törpe zebuk etetése\, valamint az ország egyetlen működő ökörhajtású járgányházának bemutatója.\nVegetáriánus gasztronómia: A Govinda Étterem különleges\, helyi alapanyagokból készült vegán és vegetáriánus ételekkel várja a vendégeket.\nKörnyezettudatosság: A 280 hektáros biofarmon megtekinthető az ökofalu működése\, a templom és a kertészet\, amelyek a fenntartható életmódot mutatják be a gyakorlatban. 
URL:https://masemhalunkehen.hu/rendezveny/boldog-boci-fesztival-somogyvamos/
LOCATION:Somogyvámos
END:VEVENT
BEGIN:VEVENT
DTSTART;TZID=Europe/Budapest:20260418T103000
DTEND;TZID=Europe/Budapest:20260418T190000
DTSTAMP:20260421T172948
CREATED:20260415T052850Z
LAST-MODIFIED:20260415T052850Z
UID:2480-1776508200-1776538800@masemhalunkehen.hu
SUMMARY:Dűlőtúra - Mór
DESCRIPTION:Borkóstolós pincetúra a Móri Borvidéken \n2026. április 18-án indul a Tavaszi Dűlőtúra Móron. A Móri borvidék egyik legnépszerűbb gasztroturisztikai eseményén a látogatók helyi pincészeteket\, szőlőültetvényeket és borkülönlegességeket fedezhetnek fel. A program kiváló lehetőséget nyújt borkóstolásra\, kirándulásra és autentikus borvidéki élmények gyűjtésére. Májusban pedig pünkösdi bortúrára lehet jelentkezni.
URL:https://masemhalunkehen.hu/rendezveny/dulotura-mor/
LOCATION:Mór
END:VEVENT
BEGIN:VEVENT
DTSTART;TZID=Europe/Budapest:20260418T110000
DTEND;TZID=Europe/Budapest:20260419T180000
DTSTAMP:20260421T172948
CREATED:20260305T100048Z
LAST-MODIFIED:20260305T100048Z
UID:1374-1776510000-1776621600@masemhalunkehen.hu
SUMMARY:Etyeki Piknik - etyek
DESCRIPTION:Etyeki Piknik és Etyek Trend eseménye\n\n\n\n\n\n\n\n\n\n\n\n\nÚjhegyi utca – Etyeki gasztrosétány\, Etyek\, Hungary\, 2091\n\n\n\n\n\n\n\n\n\n\n\n\n\nNyilvános  · Bárki a Facebookon vagy azon kívül\n\n\n\n\n\n\n\n Ébred a szőlő\, pezseg az élet: bor\, zene\, család és barátok a Tavaszi Etyeki Pikniken! \n\nBővebb infók ITT
URL:https://masemhalunkehen.hu/rendezveny/etyeki-piknik-etyek/
END:VEVENT
BEGIN:VEVENT
DTSTART;TZID=Europe/Budapest:20260419T100000
DTEND;TZID=Europe/Budapest:20260419T180000
DTSTAMP:20260421T172948
CREATED:20260415T045708Z
LAST-MODIFIED:20260415T045708Z
UID:2459-1776592800-1776621600@masemhalunkehen.hu
SUMMARY:Eats & beats: Tokyo Breeze - Budapest\,Fény utcai piac
DESCRIPTION:(Április 19.\, Fény utcai piac): Ha szereted a japán ízeket\, ez a te programod. A piacon pop-up éttermek (pl. 101 Bistro\, Hachi)\, kerámia-workshopok és élő zene várja a látogatókat.
URL:https://masemhalunkehen.hu/rendezveny/eats-beats-tokyo-breeze-budapestfeny-utcai-piac/
LOCATION:Budapest
END:VEVENT
BEGIN:VEVENT
DTSTART;TZID=Europe/Budapest:20260425T080000
DTEND;TZID=Europe/Budapest:20260425T190000
DTSTAMP:20260421T172948
CREATED:20260323T094210Z
LAST-MODIFIED:20260323T094210Z
UID:1793-1777104000-1777143600@masemhalunkehen.hu
SUMMARY:Rétesfesztivál – Gasztroélmény és tavaszi közösségi nap - Örvényes
DESCRIPTION:Örvényesi Rétesfesztivál 2026. április 25-én. Frissen sült rétes illata\, ropogós tészta és végtelen ízválaszték vár rád az első Örvényesi Rétesfesztiválon! Egy nap\, ahol a gasztronómia\, a zene és a közösség találkozik – gyere és éld át a tavasz legfinomabb élményét!
URL:https://masemhalunkehen.hu/rendezveny/retesfesztival-gasztroelmeny-es-tavaszi-kozossegi-nap-orvenyes/
LOCATION:Örvényes
END:VEVENT
END:VCALENDAR