BEGIN:VCALENDAR
VERSION:2.0
PRODID:-//Masemhalunkehen - ECPv6.15.16//NONSGML v1.0//EN
CALSCALE:GREGORIAN
METHOD:PUBLISH
X-ORIGINAL-URL:https://masemhalunkehen.hu
X-WR-CALDESC:Események Masemhalunkehen
REFRESH-INTERVAL;VALUE=DURATION:PT1H
X-Robots-Tag:noindex
X-PUBLISHED-TTL:PT1H
BEGIN:VTIMEZONE
TZID:Europe/Budapest
BEGIN:DAYLIGHT
TZOFFSETFROM:+0100
TZOFFSETTO:+0200
TZNAME:CEST
DTSTART:20250330T010000
END:DAYLIGHT
BEGIN:STANDARD
TZOFFSETFROM:+0200
TZOFFSETTO:+0100
TZNAME:CET
DTSTART:20251026T010000
END:STANDARD
BEGIN:DAYLIGHT
TZOFFSETFROM:+0100
TZOFFSETTO:+0200
TZNAME:CEST
DTSTART:20260329T010000
END:DAYLIGHT
BEGIN:STANDARD
TZOFFSETFROM:+0200
TZOFFSETTO:+0100
TZNAME:CET
DTSTART:20261025T010000
END:STANDARD
BEGIN:DAYLIGHT
TZOFFSETFROM:+0100
TZOFFSETTO:+0200
TZNAME:CEST
DTSTART:20270328T010000
END:DAYLIGHT
BEGIN:STANDARD
TZOFFSETFROM:+0200
TZOFFSETTO:+0100
TZNAME:CET
DTSTART:20271031T010000
END:STANDARD
END:VTIMEZONE
BEGIN:VEVENT
DTSTART;TZID=Europe/Budapest:20260303T113000
DTEND;TZID=Europe/Budapest:20260327T153000
DTSTAMP:20260421T173034
CREATED:20260311T143350Z
LAST-MODIFIED:20260311T143412Z
UID:1531-1772537400-1774625400@masemhalunkehen.hu
SUMMARY:Corvin 100 – Jubileumi Menühetek - Budapest
DESCRIPTION:A 100 éves Corvin Palace tiszteletére 4 neves étterem (Szaletly\, Casa Christa\, Canteen\, LIRA by Essência) kínál 100 évvel ezelőtti recepteket újragondolva. A 3 fogásos ünnepi ebédmenü ára fix 6.900 Ft. Time Out Market (Corvin Palace) \nMInden hétköznap.
URL:https://masemhalunkehen.hu/rendezveny/corvin-100-jubileumi-menuhetek-budapest/
LOCATION:Budapest
END:VEVENT
BEGIN:VEVENT
DTSTART;TZID=Europe/Budapest:20260306T080000
DTEND;TZID=Europe/Budapest:20260415T170000
DTSTAMP:20260421T173034
CREATED:20260228T110154Z
LAST-MODIFIED:20260305T101233Z
UID:1156-1772784000-1776272400@masemhalunkehen.hu
SUMMARY:Taste Balaton Fesztivál (Balaton-felvidék több helyszínen):
DESCRIPTION:2026. március 6–15. – A régió legjobb éttermei és borászatai kínálnak különleges menüket és programokat (március 6-án indul).
URL:https://masemhalunkehen.hu/rendezveny/taste-balaton-fesztival-balaton-felvidek-tobb-helyszinen/
LOCATION:Balaton
END:VEVENT
BEGIN:VEVENT
DTSTART;TZID=Europe/Budapest:20260311T100000
DTEND;TZID=Europe/Budapest:20260313T170000
DTSTAMP:20260421T173034
CREATED:20260305T093016Z
LAST-MODIFIED:20260305T093016Z
UID:1354-1773223200-1773421200@masemhalunkehen.hu
SUMMARY:Köveskál: Kővirág
DESCRIPTION:Káli-medencei alapanyagokra épülő tematikus degusztációs menü.
URL:https://masemhalunkehen.hu/rendezveny/koveskal-kovirag/
LOCATION:Köveskál
END:VEVENT
BEGIN:VEVENT
DTSTART;TZID=Europe/Budapest:20260311T180000
DTEND;TZID=Europe/Budapest:20260313T200000
DTSTAMP:20260421T173034
CREATED:20260305T092140Z
LAST-MODIFIED:20260305T092140Z
UID:1338-1773252000-1773432000@masemhalunkehen.hu
SUMMARY:Balatonfüred: Mór24 – "Zero Waste"
DESCRIPTION:“Zero Waste” vacsoraestek és natúr bor kóstolók (március 11-13.).
URL:https://masemhalunkehen.hu/rendezveny/balatonfured-mor24-zero-waste/
LOCATION:Balatonfüred
END:VEVENT
BEGIN:VEVENT
DTSTART;TZID=Europe/Budapest:20260312T100000
DTEND;TZID=Europe/Budapest:20260319T170000
DTSTAMP:20260421T173034
CREATED:20260305T090708Z
LAST-MODIFIED:20260305T090708Z
UID:1309-1773309600-1773939600@masemhalunkehen.hu
SUMMARY:29. Országos Étterem Hét
DESCRIPTION:Ez a jövő hét legjobban várt eseménye. Országszerte több mint 140 top étterem kínál exkluzív\, 3 fogásos menüsorokat fix árakon. \n\n\nKategóriák: Prémium menü (6.900 Ft-tól)\, DiningCity Csillagos menü (8.900 Ft)\, Exkluzív menü (10.900 Ft). \n\n\nFontos: Asztalt foglalni kizárólag online\, az etteremhet.hu oldalon lehet. A népszerűbb helyek (mint a 101 Bistro vagy a Pomo D’Oro) már a jövő hét elején betelhetnek.
URL:https://masemhalunkehen.hu/rendezveny/29-orszagos-etterem-het/
END:VEVENT
BEGIN:VEVENT
DTSTART;TZID=Europe/Budapest:20260313T100000
DTEND;TZID=Europe/Budapest:20260315T170000
DTSTAMP:20260421T173034
CREATED:20260305T091320Z
LAST-MODIFIED:20260305T091320Z
UID:1314-1773396000-1773594000@masemhalunkehen.hu
SUMMARY:Porchetta-workshop Jenő bácsival a PÖRC Bisztróban.
DESCRIPTION:https://www.facebook.com/porcbisztroesdelikat/ \n\nBalatonkenese\, Széchenyi u. 1\, 8174
URL:https://masemhalunkehen.hu/rendezveny/porchetta-workshop-jeno-bacsival-a-porc-bisztroban/
END:VEVENT
BEGIN:VEVENT
DTSTART;TZID=Europe/Budapest:20260313T100000
DTEND;TZID=Europe/Budapest:20260315T170000
DTSTAMP:20260421T173034
CREATED:20260305T091410Z
LAST-MODIFIED:20260305T091410Z
UID:1317-1773396000-1773594000@masemhalunkehen.hu
SUMMARY:Borkóstolós nápolyi pizza workshop a Pizza Sztoriban (Balatonmáriafürdő).
DESCRIPTION:Borkóstolós nápolyi pizza workshop a Pizza Sztoriban (Balatonmáriafürdő).
URL:https://masemhalunkehen.hu/rendezveny/borkostolos-napolyi-pizza-workshop-a-pizza-sztoriban-balatonmariafurdo/
LOCATION:Balatonmáriafürdő
END:VEVENT
BEGIN:VEVENT
DTSTART;TZID=Europe/Budapest:20260313T100000
DTEND;TZID=Europe/Budapest:20260315T170000
DTSTAMP:20260421T173034
CREATED:20260305T091446Z
LAST-MODIFIED:20260305T091517Z
UID:1321-1773396000-1773594000@masemhalunkehen.hu
SUMMARY:Mentes sütikészítés a Mónisütinél (Gyenesdiás).
DESCRIPTION:Mentes sütikészítés a Mónisütinél (Gyenesdiás).
URL:https://masemhalunkehen.hu/rendezveny/mentes-sutikeszites-a-monisutinel-gyenesdias/
LOCATION:Gyenesdiás
END:VEVENT
BEGIN:VEVENT
DTSTART;TZID=Europe/Budapest:20260313T100000
DTEND;TZID=Europe/Budapest:20260315T170000
DTSTAMP:20260421T173034
CREATED:20260305T091604Z
LAST-MODIFIED:20260305T091604Z
UID:1325-1773396000-1773594000@masemhalunkehen.hu
SUMMARY:Gombóc és Palacsinta Fesztivál - Agárd
DESCRIPTION:Gombóc és Palacsinta Fesztivál \nCsaládi hétvége édes és sós töltött finomságokkal\, ingyenes belépéssel.
URL:https://masemhalunkehen.hu/rendezveny/gomboc-es-palacsinta-fesztival-agard/
END:VEVENT
BEGIN:VEVENT
DTSTART;TZID=Europe/Budapest:20260313T100000
DTEND;TZID=Europe/Budapest:20260315T170000
DTSTAMP:20260421T173034
CREATED:20260305T091658Z
LAST-MODIFIED:20260305T091658Z
UID:1328-1773396000-1773594000@masemhalunkehen.hu
SUMMARY:Jász Kolbásztöltő Fesztivál - Jászberény
DESCRIPTION:Jász Kolbásztöltő Fesztivál – Hagyományos kolbásztöltő verseny\, házi pálinkák és igazi vásári hangulat.
URL:https://masemhalunkehen.hu/rendezveny/jasz-kolbasztolto-fesztival-jaszbereny/
LOCATION:Jászberény
END:VEVENT
BEGIN:VEVENT
DTSTART;TZID=Europe/Budapest:20260314T100000
DTEND;TZID=Europe/Budapest:20260314T170000
DTSTAMP:20260421T173034
CREATED:20260305T092418Z
LAST-MODIFIED:20260305T092418Z
UID:1345-1773482400-1773507600@masemhalunkehen.hu
SUMMARY:Jótékonysági Torta & Macaron - Tapolca
DESCRIPTION:Cukrászverseny és vásár
URL:https://masemhalunkehen.hu/rendezveny/jotekonysagi-torta-macaron-tapolca/
LOCATION:Tapolca
END:VEVENT
BEGIN:VEVENT
DTSTART;TZID=Europe/Budapest:20260314T100000
DTEND;TZID=Europe/Budapest:20260314T170000
DTSTAMP:20260421T173034
CREATED:20260305T093113Z
LAST-MODIFIED:20260305T093113Z
UID:1357-1773482400-1773507600@masemhalunkehen.hu
SUMMARY:Interaktív borászati túrák és vertikális kóstolók - Badacsony
DESCRIPTION:Badacsony: Hableány – Interaktív borászati túrák és vertikális kóstolók
URL:https://masemhalunkehen.hu/rendezveny/interaktiv-boraszati-turak-es-vertikalis-kostolok-badacsony/
LOCATION:Badacsony
END:VEVENT
BEGIN:VEVENT
DTSTART;TZID=Europe/Budapest:20260314T100000
DTEND;TZID=Europe/Budapest:20260314T170000
DTSTAMP:20260421T173034
CREATED:20260305T093218Z
LAST-MODIFIED:20260305T093218Z
UID:1361-1773482400-1773507600@masemhalunkehen.hu
SUMMARY:Kézműves sör- és BBQ párosítások - Veszprém
DESCRIPTION:Veszprém: Fricska – Kézműves sör- és BBQ párosítások a Séd-patak partján.
URL:https://masemhalunkehen.hu/rendezveny/kezmuves-sor-es-bbq-parositasok-veszprem/
LOCATION:Veszprém
END:VEVENT
BEGIN:VEVENT
DTSTART;TZID=Europe/Budapest:20260314T100000
DTEND;TZID=Europe/Budapest:20260314T170000
DTSTAMP:20260421T173034
CREATED:20260311T144701Z
LAST-MODIFIED:20260311T144701Z
UID:1550-1773482400-1773507600@masemhalunkehen.hu
SUMMARY:BBQ-forradalom a zebegényi Füstölgőben
DESCRIPTION:Március 14-én 10. alkalommal jelentkezik a BBQ-forradalom a zebegényi Füstölgőben. A rendezvény középpontjában a klasszikus amerikai barbecue egyik csúcsa\, a marhaszegy áll\, amely ezúttal burger formájában kerül a vendégek elé. A fogás négysajtos mac & cheese-zel\, kétféle BBQ-szósszal\, coleslaw-val\, csilis babbal és többféle házi kiegészítővel egészül ki\, valamint kemencében sült zöldségekből és marhapofából készült ragu is szerepel a kínálatban\, további finomságokkal kísérve. Az eseményhez előzetes üzenetes jelentkezéssel lehet csatlakozni.
URL:https://masemhalunkehen.hu/rendezveny/bbq-forradalom-a-zebegenyi-fustolgoben/
LOCATION:Zebegény
END:VEVENT
BEGIN:VEVENT
DTSTART;TZID=Europe/Budapest:20260314T100000
DTEND;TZID=Europe/Budapest:20260315T170000
DTSTAMP:20260421T173034
CREATED:20260305T092321Z
LAST-MODIFIED:20260305T092321Z
UID:1341-1773482400-1773594000@masemhalunkehen.hu
SUMMARY:Édes Fesztivál - Berekfürdő
DESCRIPTION:Tradicionális alföldi sütik
URL:https://masemhalunkehen.hu/rendezveny/edes-fesztival-berekfurdo/
LOCATION:Berekfürdő
END:VEVENT
BEGIN:VEVENT
DTSTART;TZID=Europe/Budapest:20260315T080000
DTEND;TZID=Europe/Budapest:20260315T170000
DTSTAMP:20260421T173034
CREATED:20260305T091857Z
LAST-MODIFIED:20260305T091857Z
UID:1335-1773561600-1773594000@masemhalunkehen.hu
SUMMARY:Skanzen (Szentendre)
DESCRIPTION:A tavaszi nyitás előtti „sétálójegyes” hétvégén Erdélyi ízutazással várnak\, ahol megkóstolhatod a térség legfinomabb kürtőskalácsait is.
URL:https://masemhalunkehen.hu/rendezveny/skanzen-szentendre/
LOCATION:Szentendre
END:VEVENT
BEGIN:VEVENT
DTSTART;TZID=Europe/Budapest:20260315T100000
DTEND;TZID=Europe/Budapest:20260315T170000
DTSTAMP:20260421T173034
CREATED:20260305T091753Z
LAST-MODIFIED:20260305T091753Z
UID:1332-1773568800-1773594000@masemhalunkehen.hu
SUMMARY:„Fő a kávé” kiállítás (Budapest\, Kazinczy utca)
DESCRIPTION:A Magyar Műszaki és Közlekedési Múzeumban interaktív kávétörténeti tárlat nyílt. Március 15-én különleges programmal készülnek: „Így kávéztak ők” címmel a reformkori kávéházi kultúrát és a Pilvax világát idézik meg.
URL:https://masemhalunkehen.hu/rendezveny/fo-a-kave-kiallitas-budapest-kazinczy-utca/
LOCATION:Budapest
END:VEVENT
BEGIN:VEVENT
DTSTART;TZID=Europe/Budapest:20260315T100000
DTEND;TZID=Europe/Budapest:20260315T170000
DTSTAMP:20260421T173034
CREATED:20260305T092602Z
LAST-MODIFIED:20260305T092602Z
UID:1348-1773568800-1773594000@masemhalunkehen.hu
SUMMARY:Eger: Egri Csillag Weekend előzetes - Szépasszonyvölgy
DESCRIPTION:A város több pincéjében (Szépasszony-völgy) március 15-én ünnepi borkóstolókat tartanak a “Forradalmi borok” jegyében.
URL:https://masemhalunkehen.hu/rendezveny/eger-egri-csillag-weekend-elozetes-szepasszonyvolgy/
LOCATION:Eger
END:VEVENT
BEGIN:VEVENT
DTSTART;TZID=Europe/Budapest:20260315T100000
DTEND;TZID=Europe/Budapest:20260315T170000
DTSTAMP:20260421T173034
CREATED:20260305T092655Z
LAST-MODIFIED:20260305T092655Z
UID:1351-1773568800-1773594000@masemhalunkehen.hu
SUMMARY:Budapest\, Városliget: Családi Nap
DESCRIPTION:A Magyar Ízek Utcája mini-kiadása: kézműves sajtok\, mézek és a nemzet győztes tortái kóstolhatók.
URL:https://masemhalunkehen.hu/rendezveny/budapest-varosliget-csaladi-nap/
END:VEVENT
BEGIN:VEVENT
DTSTART;TZID=Europe/Budapest:20260320T100000
DTEND;TZID=Europe/Budapest:20260321T170000
DTSTAMP:20260421T173034
CREATED:20260317T115744Z
LAST-MODIFIED:20260317T115744Z
UID:1678-1774000800-1774112400@masemhalunkehen.hu
SUMMARY:Akali Bor Napja Mandulavirágzáskor
DESCRIPTION:A tavasz hírnökeként a mandulavirágzás mellett a helyi pincék borait és gasztro-falatkákat ismerhetnek meg a látogatók. \nSzakmai nap a balatonakali művelődési ház nagytermében\, majd 21-én Bortúra várja az érdeklődőket.
URL:https://masemhalunkehen.hu/rendezveny/akali-bor-napja-mandulaviragzaskor/
LOCATION:Akali
END:VEVENT
BEGIN:VEVENT
DTSTART;TZID=Europe/Budapest:20260320T100000
DTEND;TZID=Europe/Budapest:20260322T170000
DTSTAMP:20260421T173034
CREATED:20260305T095452Z
LAST-MODIFIED:20260305T095452Z
UID:1364-1774000800-1774198800@masemhalunkehen.hu
SUMMARY:IV. Tavaszi Halfesztivál - Velence (Korzó)
DESCRIPTION:IV. Tavaszi Halfesztivál – Velence Korzó\n Tavasz. Tópart. Ízek. Élmények. \nVelencén indul a szezon legízletesebb hétvégéje!\n\n\n Gőzölgő halászlé\n Frissen sült halételek\n Kézműves édességek\n Válogatott borok\n Minőségi pálinkák\n Megújult vidámpark\,\n színes gyerekprogramok\,\n napközben hangulatos háttérzene\,\n Délután élőzene – hogy minden korosztály jól érezze magát.\n\n\nEz a IV. Tavaszi Halfesztivál\, ahol a gasztronómia\, a kikapcsolódás és a tavaszi hangulat tökéletesen találkozik a Velencei-tó partján.\n\n\nEsemény itt:\nhttps://www.facebook.com/share/1AkUuD9jHx/\n Velence Korzó\n 2026. március 20–21–22.\n A belépés ingyenes
URL:https://masemhalunkehen.hu/rendezveny/iv-tavaszi-halfesztival-velence-korzo/
LOCATION:Velence
END:VEVENT
BEGIN:VEVENT
DTSTART;TZID=Europe/Budapest:20260321T080000
DTEND;TZID=Europe/Budapest:20260321T170000
DTSTAMP:20260421T173034
CREATED:20260311T144232Z
LAST-MODIFIED:20260311T144232Z
UID:1544-1774080000-1774112400@masemhalunkehen.hu
SUMMARY:Mezőtúri Kolbászkészítő Vigadalom
DESCRIPTION:Hol: Mezőtúr\, Városi Sportcsarnok. \n\n\nLeírás: Tradicionális alföldi kolbásztöltő verseny. Nem csak nézni lehet: a helyszínen frissen sült hurka-kolbász\, tepertő és helyi pálinkák kóstolhatók egész nap.
URL:https://masemhalunkehen.hu/rendezveny/mezoturi-kolbaszkeszito-vigadalom/
LOCATION:Mezőtúr
END:VEVENT
BEGIN:VEVENT
DTSTART;TZID=Europe/Budapest:20260321T080000
DTEND;TZID=Europe/Budapest:20260321T190000
DTSTAMP:20260421T173034
CREATED:20260311T144122Z
LAST-MODIFIED:20260311T144122Z
UID:1541-1774080000-1774119600@masemhalunkehen.hu
SUMMARY:Makói Hagymás Csücsür Ünnep
DESCRIPTION:Hol: Makó\, Belváros / Hagymaház környéke. \n\n\nLeírás: A híres makói hagyma köré épülő népi gasztroünnep. A “csücsür” egy helyi tésztaféle\, amit ilyenkor mindenféle töltelékkel készítenek. Főzőverseny\, kézműves vásár és néptánc kíséri.
URL:https://masemhalunkehen.hu/rendezveny/makoi-hagymas-csucsur-unnep/
LOCATION:Makó
END:VEVENT
BEGIN:VEVENT
DTSTART;TZID=Europe/Budapest:20260321T080000
DTEND;TZID=Europe/Budapest:20260322T170000
DTSTAMP:20260421T173034
CREATED:20260311T143923Z
LAST-MODIFIED:20260311T143923Z
UID:1539-1774080000-1774198800@masemhalunkehen.hu
SUMMARY:Telekom Vivicittá Gasztro-udvar
DESCRIPTION:A Margitszigeten a futóverseny kísérőeseményeként tavaszi street food és egészséges ételek kínálata várja a látogatókat.
URL:https://masemhalunkehen.hu/rendezveny/telekom-vivicitta-gasztro-udvar/
LOCATION:Budapest
END:VEVENT
BEGIN:VEVENT
DTSTART;TZID=Europe/Budapest:20260321T100000
DTEND;TZID=Europe/Budapest:20260321T180000
DTSTAMP:20260421T173034
CREATED:20260311T143540Z
LAST-MODIFIED:20260311T143540Z
UID:1535-1774087200-1774116000@masemhalunkehen.hu
SUMMARY:Winelovers Grand 2026
DESCRIPTION:Helyszín: Budapest\, Corinthia Hotel \n\n\nLeírás: Az év egyik legfontosabb boros rendezvénye. Több mint 150 kiállító több mint 800 bora kóstolható meg. A sétáló kóstoló mellett mesterkurzusokon is részt vehetsz\, ahol nemzetközi borszakértők vezetnek be a legizgalmasabb tételek világába.
URL:https://masemhalunkehen.hu/rendezveny/winelovers-grand-2026/
LOCATION:Budapest
END:VEVENT
BEGIN:VEVENT
DTSTART;TZID=Europe/Budapest:20260321T100000
DTEND;TZID=Europe/Budapest:20260322T180000
DTSTAMP:20260421T173034
CREATED:20260311T143804Z
LAST-MODIFIED:20260311T143804Z
UID:1537-1774087200-1774202400@masemhalunkehen.hu
SUMMARY:Imagine Gasztroséták: "Édes Élet" és "Sercli"
DESCRIPTION:Időpont: 2026. március 21–22. \n\n\nHelyszín: Budapest belvárosa (találkozóhely a foglalásnál) \n\n\nLeírás: Tematikus városi séták\, ahol szakavatott vezetőkkel járhatod végig a város legjobb kézműves pékségeit (Sercli-séta) vagy a történelmi cukrászdákat és csokoládéműhelyeket (Édes Élet). Minden megállónál kóstolóval készülnek.
URL:https://masemhalunkehen.hu/rendezveny/imagine-gasztrosetak-edes-elet-es-sercli/
LOCATION:Budapest
END:VEVENT
BEGIN:VEVENT
DTSTART;TZID=Europe/Budapest:20260321T153000
DTEND;TZID=Europe/Budapest:20260321T170000
DTSTAMP:20260421T173034
CREATED:20260317T120208Z
LAST-MODIFIED:20260317T120208Z
UID:1681-1774107000-1774112400@masemhalunkehen.hu
SUMMARY:Prosecco és Spritz Hajó - Budapest
DESCRIPTION:Esti városnéző hajózás korlátlan italfogyasztással a Dunán. \nBudapest\, Széchenyi rkp. 2\, 1054 Magyarország \nIdőpontok: 15:30\, 22:45 \n 
URL:https://masemhalunkehen.hu/rendezveny/prosecco-es-spritz-hajo-budapest/
LOCATION:Budapest
END:VEVENT
BEGIN:VEVENT
DTSTART;TZID=Europe/Budapest:20260322T100000
DTEND;TZID=Europe/Budapest:20260322T160000
DTSTAMP:20260421T173034
CREATED:20260311T144357Z
LAST-MODIFIED:20260311T144357Z
UID:1547-1774173600-1774195200@masemhalunkehen.hu
SUMMARY:Balatonni Gasztropiac - Siófok
DESCRIPTION:Mikor: Március 22.\, 10:00 – 16:00 \n\n\nHol: Siófok\, Piroska Csárda és Fogadó. \n\n\nLeírás: A “GasztroFok” sorozat részeként a Balaton környéki kistermelők hozzák el sajtjaikat\, füstölt áruikat és borukat. Kiváló alkalom egy vasárnapi brunch-ra a tópart közelében.
URL:https://masemhalunkehen.hu/rendezveny/balatonni-gasztropiac-siofok/
LOCATION:Siófok
END:VEVENT
BEGIN:VEVENT
DTSTART;TZID=Europe/Budapest:20260327T080000
DTEND;TZID=Europe/Budapest:20260328T190000
DTSTAMP:20260421T173034
CREATED:20260323T092856Z
LAST-MODIFIED:20260323T092856Z
UID:1776-1774598400-1774724400@masemhalunkehen.hu
SUMMARY:Majosi Kolbásztöltő Fesztivál - Bonyhád
DESCRIPTION:A VI. Majosi Kolbásztöltő Fesztivál 2026. március 28-án kerül megrendezésre Bonyhádon. A fesztivál egy határokon átívelő közösségépítő rendezvény\, amelynek célja a hagyományok ápolása és életben tartása. Eszközünk a kolbász\, módszerünk a hagyományos\, élő emberi kapcsolódás. Meggyőződéssel hiszünk a közösség erejében\, amelyhez tartozva jobb hely lehet a világ
URL:https://masemhalunkehen.hu/rendezveny/majosi-kolbasztolto-fesztival-bonyhad/
LOCATION:Bonyhád
END:VEVENT
BEGIN:VEVENT
DTSTART;TZID=Europe/Budapest:20260327T100000
DTEND;TZID=Europe/Budapest:20260329T170000
DTSTAMP:20260421T173034
CREATED:20260305T103006Z
LAST-MODIFIED:20260305T103006Z
UID:1387-1774605600-1774803600@masemhalunkehen.hu
SUMMARY:Taste of Transylvania - Szentendre (Skanzen)
DESCRIPTION:A Taste of Transylvania Gasztrofesztivál\n\nnem más\, mint néhány elszánt szakács\, vendéglátós és helyi termelő közös álmának a megvalósulása. Célunk\, hogy együtt nyissuk meg az erdélyi gasztronómiai kultúra új fejezetét. Elindultunk közösen azon az úton\, ami a gasztronómiai hagyományaink és készségeink újrafelfedezéséhez és az eltűnőben lévő örökségünk megmentéséhez vezet – azt akarjuk\, hogy Erdélyt\, ezt a különleges és kissé eldugott tájat visszahelyezzük a nemzetközi gasztronómiai térképre\, mint egy új\, mégis időtlen desztináció. \n2026 új fejezetet jelent a Taste of Transylvania életében\, hiszen március 27 és 29 között sor kerül az első nemzetközi eseményünkre is\, melynek a Szabadtéri Néprajzi Múzeum\, avagy a Szentendrei Skanzen Erdély tájegysége ad otthont. \nBővebb információk: ITT
URL:https://masemhalunkehen.hu/rendezveny/taste-of-transylvania-szentendre-skanzen/
LOCATION:Szentendre
END:VEVENT
END:VCALENDAR