BEGIN:VCALENDAR
VERSION:2.0
PRODID:-//Masemhalunkehen - ECPv6.15.16//NONSGML v1.0//EN
CALSCALE:GREGORIAN
METHOD:PUBLISH
X-WR-CALNAME:Masemhalunkehen
X-ORIGINAL-URL:https://masemhalunkehen.hu
X-WR-CALDESC:Események Masemhalunkehen
REFRESH-INTERVAL;VALUE=DURATION:PT1H
X-Robots-Tag:noindex
X-PUBLISHED-TTL:PT1H
BEGIN:VTIMEZONE
TZID:Europe/Budapest
BEGIN:DAYLIGHT
TZOFFSETFROM:+0100
TZOFFSETTO:+0200
TZNAME:CEST
DTSTART:20250330T010000
END:DAYLIGHT
BEGIN:STANDARD
TZOFFSETFROM:+0200
TZOFFSETTO:+0100
TZNAME:CET
DTSTART:20251026T010000
END:STANDARD
BEGIN:DAYLIGHT
TZOFFSETFROM:+0100
TZOFFSETTO:+0200
TZNAME:CEST
DTSTART:20260329T010000
END:DAYLIGHT
BEGIN:STANDARD
TZOFFSETFROM:+0200
TZOFFSETTO:+0100
TZNAME:CET
DTSTART:20261025T010000
END:STANDARD
BEGIN:DAYLIGHT
TZOFFSETFROM:+0100
TZOFFSETTO:+0200
TZNAME:CEST
DTSTART:20270328T010000
END:DAYLIGHT
BEGIN:STANDARD
TZOFFSETFROM:+0200
TZOFFSETTO:+0100
TZNAME:CET
DTSTART:20271031T010000
END:STANDARD
END:VTIMEZONE
BEGIN:VEVENT
DTSTART;TZID=Europe/Budapest:20260303T113000
DTEND;TZID=Europe/Budapest:20260327T153000
DTSTAMP:20260421T154756
CREATED:20260311T143350Z
LAST-MODIFIED:20260311T143412Z
UID:1531-1772537400-1774625400@masemhalunkehen.hu
SUMMARY:Corvin 100 – Jubileumi Menühetek - Budapest
DESCRIPTION:A 100 éves Corvin Palace tiszteletére 4 neves étterem (Szaletly\, Casa Christa\, Canteen\, LIRA by Essência) kínál 100 évvel ezelőtti recepteket újragondolva. A 3 fogásos ünnepi ebédmenü ára fix 6.900 Ft. Time Out Market (Corvin Palace) \nMInden hétköznap.
URL:https://masemhalunkehen.hu/rendezveny/corvin-100-jubileumi-menuhetek-budapest/
LOCATION:Budapest
END:VEVENT
BEGIN:VEVENT
DTSTART;TZID=Europe/Budapest:20260306T080000
DTEND;TZID=Europe/Budapest:20260308T170000
DTSTAMP:20260421T154756
CREATED:20260228T105914Z
LAST-MODIFIED:20260305T101154Z
UID:1148-1772784000-1772989200@masemhalunkehen.hu
SUMMARY:Mangalica és Kocsonya Fesztivál (Budapest\, World Mall mellett)
DESCRIPTION:2026. március 6–8. – Bár a húsételekről szól\, a kocsonyák és a kézműves borok/pálinkák is központi szerepet kapnak.
URL:https://masemhalunkehen.hu/rendezveny/mangalica-es-kocsonya-fesztival-budapest-world-mall-mellett/
LOCATION:Budapest
END:VEVENT
BEGIN:VEVENT
DTSTART;TZID=Europe/Budapest:20260306T080000
DTEND;TZID=Europe/Budapest:20260415T170000
DTSTAMP:20260421T154756
CREATED:20260228T110154Z
LAST-MODIFIED:20260305T101233Z
UID:1156-1772784000-1776272400@masemhalunkehen.hu
SUMMARY:Taste Balaton Fesztivál (Balaton-felvidék több helyszínen):
DESCRIPTION:2026. március 6–15. – A régió legjobb éttermei és borászatai kínálnak különleges menüket és programokat (március 6-án indul).
URL:https://masemhalunkehen.hu/rendezveny/taste-balaton-fesztival-balaton-felvidek-tobb-helyszinen/
LOCATION:Balaton
END:VEVENT
BEGIN:VEVENT
DTSTART;TZID=Europe/Budapest:20260307T080000
DTEND;TZID=Europe/Budapest:20260307T170000
DTSTAMP:20260421T154756
CREATED:20260228T105552Z
LAST-MODIFIED:20260305T101318Z
UID:1139-1772870400-1772902800@masemhalunkehen.hu
SUMMARY:XVIII. Tiszator Böllérfesztivál (Abádszalók)
DESCRIPTION:2026. március 7. – Az ország egyik legnagyobb böllérversenye\, ahol a “böllérfalu” portáin minden finomság végigkóstolható.
URL:https://masemhalunkehen.hu/rendezveny/xviii-tiszator-bollerfesztival-abadszalok/
LOCATION:Abádszalók
END:VEVENT
BEGIN:VEVENT
DTSTART;TZID=Europe/Budapest:20260307T080000
DTEND;TZID=Europe/Budapest:20260307T170000
DTSTAMP:20260421T154756
CREATED:20260228T105643Z
LAST-MODIFIED:20260305T101425Z
UID:1141-1772870400-1772902800@masemhalunkehen.hu
SUMMARY:Bánhidai Disznótor és Kolbásztöltő Verseny (Tatabánya)
DESCRIPTION:2026. március 7. – Helyi ízek és versenyhangulat a Vértes lábánál.
URL:https://masemhalunkehen.hu/rendezveny/banhidai-disznotor-es-kolbasztolto-verseny-tatabanya/
LOCATION:Tatabánya
END:VEVENT
BEGIN:VEVENT
DTSTART;TZID=Europe/Budapest:20260307T080000
DTEND;TZID=Europe/Budapest:20260307T170000
DTSTAMP:20260421T154756
CREATED:20260228T105822Z
LAST-MODIFIED:20260305T101503Z
UID:1146-1772870400-1772902800@masemhalunkehen.hu
SUMMARY:Dunakeszi Mindmegeszi (Dunakeszi)
DESCRIPTION:2026. március 7. – Böllérverseny és töltöttkáposzta-főző fesztivál családi programokkal.
URL:https://masemhalunkehen.hu/rendezveny/dunakeszi-mindmegeszi-dunakeszi/
LOCATION:Dunakeszi
END:VEVENT
BEGIN:VEVENT
DTSTART;TZID=Europe/Budapest:20260307T080000
DTEND;TZID=Europe/Budapest:20260307T170000
DTSTAMP:20260421T154756
CREATED:20260228T110024Z
LAST-MODIFIED:20260305T101650Z
UID:1154-1772870400-1772902800@masemhalunkehen.hu
SUMMARY:Etyeki Pezsgés (Etyek\, Rókusfalvy Birtok)
DESCRIPTION:2026. március 7. – A tavasz első pezsgős-boros kerti eseménye gasztronómiai falatokkal kísérve.
URL:https://masemhalunkehen.hu/rendezveny/etyeki-pezsges-etyek-rokusfalvy-birtok/
LOCATION:Etyek
END:VEVENT
BEGIN:VEVENT
DTSTART;TZID=Europe/Budapest:20260307T143000
DTEND;TZID=Europe/Budapest:20260307T203000
DTSTAMP:20260421T154756
CREATED:20260220T122516Z
LAST-MODIFIED:20260305T101731Z
UID:1028-1772893800-1772915400@masemhalunkehen.hu
SUMMARY:Budafoki pincejárat
DESCRIPTION:Budafoki pincejárat 2026-ban is! Fedezze fel velünk a Bornegyedet\, nyitott pincék Budapesten – igazi borélmény minden hónap első szombatján. Borkóstolók\, kiállítások és könnyűzenei programok. Budapest Bornegyedében számtalan neves pezsgőkészítő cég és borászat található. A programok a borkultúrát bemutató egyedülálló élményt biztosítanak a borospincék és a kultúra világába. Gasztronómia\, tradíció és megannyi boros élmény: a főváros szívétől mindössze 30 percre! A helyszínek között 14.30-20.30 között ingyenes kisbuszok közlekednek.
URL:https://masemhalunkehen.hu/rendezveny/budafoki-pincejarat/
LOCATION:Budafok
END:VEVENT
END:VCALENDAR