BEGIN:VCALENDAR
VERSION:2.0
PRODID:-//Masemhalunkehen - ECPv6.15.16//NONSGML v1.0//EN
CALSCALE:GREGORIAN
METHOD:PUBLISH
X-ORIGINAL-URL:https://masemhalunkehen.hu
X-WR-CALDESC:Események Masemhalunkehen
REFRESH-INTERVAL;VALUE=DURATION:PT1H
X-Robots-Tag:noindex
X-PUBLISHED-TTL:PT1H
BEGIN:VTIMEZONE
TZID:Europe/Budapest
BEGIN:DAYLIGHT
TZOFFSETFROM:+0100
TZOFFSETTO:+0200
TZNAME:CEST
DTSTART:20250330T010000
END:DAYLIGHT
BEGIN:STANDARD
TZOFFSETFROM:+0200
TZOFFSETTO:+0100
TZNAME:CET
DTSTART:20251026T010000
END:STANDARD
BEGIN:DAYLIGHT
TZOFFSETFROM:+0100
TZOFFSETTO:+0200
TZNAME:CEST
DTSTART:20260329T010000
END:DAYLIGHT
BEGIN:STANDARD
TZOFFSETFROM:+0200
TZOFFSETTO:+0100
TZNAME:CET
DTSTART:20261025T010000
END:STANDARD
BEGIN:DAYLIGHT
TZOFFSETFROM:+0100
TZOFFSETTO:+0200
TZNAME:CEST
DTSTART:20270328T010000
END:DAYLIGHT
BEGIN:STANDARD
TZOFFSETFROM:+0200
TZOFFSETTO:+0100
TZNAME:CET
DTSTART:20271031T010000
END:STANDARD
END:VTIMEZONE
BEGIN:VEVENT
DTSTART;TZID=Europe/Budapest:20260227T180000
DTEND;TZID=Europe/Budapest:20260227T220000
DTSTAMP:20260421T155051
CREATED:20260220T122213Z
LAST-MODIFIED:20260220T122213Z
UID:1026-1772215200-1772229600@masemhalunkehen.hu
SUMMARY:Borkarnevál / Otthonka
DESCRIPTION:Az Otthonka farsangi borkarneválján a jelmez nem kötelező\, a jókedv viszont annál inkább – ezt pedig a belépővel járó korlátlan borfogyasztás és a hajnalig tartó tánc biztosítja. A február 27-i esemény ugyan 22 óráig van meghirdetve\, de a záróra után kezdődik csak az igazi buli\, hiszen a rendezvényig még zenei bejelentéssel készülnek a szervezők. Amennyiben alkoholmentesen oldalátok meg az estét\, és csak a jó zene miatt jönnétek\, sétálójeggyel arra is lehetőségetek van. Ha nem akartok lemaradni az eseményről\, biztosítsátok be minél hamarabb a helyeteket! \nHelyszín: Otthonka (1088 Budapest\, Szentkirályi utca 23.) \nJEGYINFÓK:\nMinden jegy tartalmazza a korlátlan borkóstolást és az egész estés zenei programot.\nPohárletét: 2000 Ft\n–> a pohár leadásakor a teljes összeg visszajár\n–> a pohárletét fizetése CSAK készpénzben lehetséges\n–> a kóstolópoharak visszaváltását és annak egyösszegű letéti díját az esemény alatt vendégeink bármikor visszakérhetik\n–> a kóstolópoharak visszaváltását és annak egyösszegű letéti díját a rendezvény végeztével\, (de maximum 30 perccel az esemény zárását követően) áll módunkban visszatéríteni (22:30-ig) \n JEGYÁRAK:\n EARLY BIRD jegyárak január 10-ig:\n7.500 Ft/Fő\n ELŐVÉTELES jegyárak február 7-ig:\n8.800 Ft/Fő\n NORMAL jegyárak február 26-ig:\n9.900 Ft/Fő\n HELYSZÍNI jegyárak (online és a helyszínen) február 27-én a készlet erejéig:\n11.500 Ft/Fő \n További fontos infó a jegyekről:\nHa inkább csak a bulira\, a zenére\, a karneváli hangulatra és a közös mulatozásra jönnél\, és nem vennél részt a korlátlan borkóstolón\, akkor van lehetőség sétáló jegy vásárlására is.\n Sétáló jegy ára: 5.000 Ft (18:00-02:00)
URL:https://masemhalunkehen.hu/rendezveny/borkarneval-otthonka/
END:VEVENT
END:VCALENDAR