BEGIN:VCALENDAR
VERSION:2.0
PRODID:-//Masemhalunkehen - ECPv6.15.16//NONSGML v1.0//EN
CALSCALE:GREGORIAN
METHOD:PUBLISH
X-ORIGINAL-URL:https://masemhalunkehen.hu
X-WR-CALDESC:Események Masemhalunkehen
REFRESH-INTERVAL;VALUE=DURATION:PT1H
X-Robots-Tag:noindex
X-PUBLISHED-TTL:PT1H
BEGIN:VTIMEZONE
TZID:Europe/Budapest
BEGIN:DAYLIGHT
TZOFFSETFROM:+0100
TZOFFSETTO:+0200
TZNAME:CEST
DTSTART:20250330T010000
END:DAYLIGHT
BEGIN:STANDARD
TZOFFSETFROM:+0200
TZOFFSETTO:+0100
TZNAME:CET
DTSTART:20251026T010000
END:STANDARD
BEGIN:DAYLIGHT
TZOFFSETFROM:+0100
TZOFFSETTO:+0200
TZNAME:CEST
DTSTART:20260329T010000
END:DAYLIGHT
BEGIN:STANDARD
TZOFFSETFROM:+0200
TZOFFSETTO:+0100
TZNAME:CET
DTSTART:20261025T010000
END:STANDARD
BEGIN:DAYLIGHT
TZOFFSETFROM:+0100
TZOFFSETTO:+0200
TZNAME:CEST
DTSTART:20270328T010000
END:DAYLIGHT
BEGIN:STANDARD
TZOFFSETFROM:+0200
TZOFFSETTO:+0100
TZNAME:CET
DTSTART:20271031T010000
END:STANDARD
END:VTIMEZONE
BEGIN:VEVENT
DTSTART;TZID=Europe/Budapest:20260226T160000
DTEND;TZID=Europe/Budapest:20260226T210000
DTSTAMP:20260421T155052
CREATED:20260220T121704Z
LAST-MODIFIED:20260220T121704Z
UID:1023-1772121600-1772139600@masemhalunkehen.hu
SUMMARY:Furmint Február - Hagyományok Háza
DESCRIPTION:A február 26-i furmint nagykóstolón több mint harminc borászat kétszáz-féle bora közül válogathatnak a fajta kedvelői. A Hagyományok Házában a kiállító borászokkal is lehetőség lesz beszélgetni\, akik szívesen mesélnek majd a fajtáról és az őket ért szakmai kihívásokról. Az idei rendezvény fókuszába a dűlőszelektált tételek kerülnek\, így igazi ritkaságokat is kóstolhattok. Bár az esemény napján a helyszínen is tudtok jegyet vásárolni\, érdemes hamarabb gondolni erre\, hiszen így jóval kedvezőbben tudtok belépőhöz jutni. A programon korlátlan kóstolás vár rátok – azért csak óvatosan! \n1011 Budapest\, Corvin tér 8 \n\nElővétes kedvezményes jegy: 21.900 ft – 2026. február 25-ig\nTeljes árú jegy 25.000 ft – február 26-án és a helyszínen\n\n 
URL:https://masemhalunkehen.hu/rendezveny/furmint-februar-hagyomanyok-haza/
END:VEVENT
END:VCALENDAR