BEGIN:VCALENDAR
VERSION:2.0
PRODID:-//Masemhalunkehen - ECPv6.15.16//NONSGML v1.0//EN
CALSCALE:GREGORIAN
METHOD:PUBLISH
X-ORIGINAL-URL:https://masemhalunkehen.hu
X-WR-CALDESC:Események Masemhalunkehen
REFRESH-INTERVAL;VALUE=DURATION:PT1H
X-Robots-Tag:noindex
X-PUBLISHED-TTL:PT1H
BEGIN:VTIMEZONE
TZID:Europe/Budapest
BEGIN:DAYLIGHT
TZOFFSETFROM:+0100
TZOFFSETTO:+0200
TZNAME:CEST
DTSTART:20250330T010000
END:DAYLIGHT
BEGIN:STANDARD
TZOFFSETFROM:+0200
TZOFFSETTO:+0100
TZNAME:CET
DTSTART:20251026T010000
END:STANDARD
BEGIN:DAYLIGHT
TZOFFSETFROM:+0100
TZOFFSETTO:+0200
TZNAME:CEST
DTSTART:20260329T010000
END:DAYLIGHT
BEGIN:STANDARD
TZOFFSETFROM:+0200
TZOFFSETTO:+0100
TZNAME:CET
DTSTART:20261025T010000
END:STANDARD
BEGIN:DAYLIGHT
TZOFFSETFROM:+0100
TZOFFSETTO:+0200
TZNAME:CEST
DTSTART:20270328T010000
END:DAYLIGHT
BEGIN:STANDARD
TZOFFSETFROM:+0200
TZOFFSETTO:+0100
TZNAME:CET
DTSTART:20271031T010000
END:STANDARD
END:VTIMEZONE
BEGIN:VEVENT
DTSTART;TZID=Europe/Budapest:20260219T080000
DTEND;TZID=Europe/Budapest:20260219T170000
DTSTAMP:20260421T172219
CREATED:20260216T192106Z
LAST-MODIFIED:20260217T110050Z
UID:738-1771488000-1771520400@masemhalunkehen.hu
SUMMARY:Tihany & Balatonfüred: áldozás a torkosság oltárán
DESCRIPTION:Idén három helyszínen áldozhatunk a torkosság oltárán: a balatonfüredi Trattoria il Lago\, a tihanyi Apátsági Rege Cukrászda\, valamint a szintén tihanyi Echo Étterem várja 50% kedvezménnyel a vendégeket.
URL:https://masemhalunkehen.hu/rendezveny/tihany-balatonfured/
END:VEVENT
END:VCALENDAR